BEGIN:VCALENDAR
VERSION:2.0
PRODID:-//Mobile Training Solutions LLC - ECPv6.15.20//NONSGML v1.0//EN
CALSCALE:GREGORIAN
METHOD:PUBLISH
X-ORIGINAL-URL:https://mobiletrainingsolutions.net
X-WR-CALDESC:Events for Mobile Training Solutions LLC
REFRESH-INTERVAL;VALUE=DURATION:PT1H
X-Robots-Tag:noindex
X-PUBLISHED-TTL:PT1H
BEGIN:VTIMEZONE
TZID:America/Phoenix
BEGIN:STANDARD
TZOFFSETFROM:-0700
TZOFFSETTO:-0700
TZNAME:MST
DTSTART:20200101T000000
END:STANDARD
END:VTIMEZONE
BEGIN:VEVENT
DTSTART;TZID=America/Phoenix:20210527T080000
DTEND;TZID=America/Phoenix:20210527T143000
DTSTAMP:20260425T110652
CREATED:20210223T160042Z
LAST-MODIFIED:20210223T181234Z
UID:10001737-1622102400-1622125800@mobiletrainingsolutions.net
SUMMARY:Last Chance CEU 6hrs - 5/27/2021 - TUCSON
DESCRIPTION:Continuing education seminar for AZDA:PMD license renewal. We are keeping class sizes small and seating will be very limited. Social distancing guidelines will be in effect.
URL:https://mobiletrainingsolutions.net/event/last-chance-ceu-6hrs-5-272021-tucson/
LOCATION:Mobile Training Solutions\, LLC\, 7009 E. 21st Street\, Tucson\, AZ\, 85710\, United States
ORGANIZER;CN="Linda Harrington":MAILTO:linda@mobiletrainingsolutions.net
GEO:32.2082649;-110.8439314
X-APPLE-STRUCTURED-LOCATION;VALUE=URI;X-ADDRESS=Mobile Training Solutions LLC 7009 E. 21st Street Tucson AZ 85710 United States;X-APPLE-RADIUS=500;X-TITLE=7009 E. 21st Street:geo:-110.8439314,32.2082649
END:VEVENT
BEGIN:VEVENT
DTSTART;TZID=America/Phoenix:20210527T080000
DTEND;TZID=America/Phoenix:20210527T143000
DTSTAMP:20260425T110652
CREATED:20210223T181452Z
LAST-MODIFIED:20210315T222131Z
UID:10001738-1622102400-1622125800@mobiletrainingsolutions.net
SUMMARY:Last Chance CEU 6hrs - 5/27/2021 - ONLINE
DESCRIPTION:ONLINE Continuing education seminar for AZDA:PMD license renewal. $130.00 tickets. ($5.00 off since you feed yourselves) \nThis Continuing Education seminar will be broadcast online via Microsoft Teams. You do not need to have Teams installed to participate. We will email an invite link that you will click and follow to participate in the seminar. We ask that you sign in at least 30min (7:30am) early to be sure there are no connection issues. You must stay connected to the meeting for its entirety to receive credit for all 6 hours of Continuing Education.  \nThis class will be a broadcast of a live class we are holding in Tucson. You may ask questions via mic and texting during the presentations. \nYou may contact Jason 520-395-6080 or Linda 520-419-9575 if you have questions or issues regarding signing in.
URL:https://mobiletrainingsolutions.net/event/last-chance-ceu-6hrs-5-27-2021-online/
LOCATION:Online Training\, AZ\, United States
ORGANIZER;CN="Linda Harrington":MAILTO:linda@mobiletrainingsolutions.net
GEO:34.0489281;-111.0937311
END:VEVENT
END:VCALENDAR