BEGIN:VCALENDAR
VERSION:2.0
PRODID:-//Mobile Training Solutions LLC - ECPv6.15.20//NONSGML v1.0//EN
CALSCALE:GREGORIAN
METHOD:PUBLISH
X-ORIGINAL-URL:https://mobiletrainingsolutions.net
X-WR-CALDESC:Events for Mobile Training Solutions LLC
REFRESH-INTERVAL;VALUE=DURATION:PT1H
X-Robots-Tag:noindex
X-PUBLISHED-TTL:PT1H
BEGIN:VTIMEZONE
TZID:America/Phoenix
BEGIN:STANDARD
TZOFFSETFROM:-0700
TZOFFSETTO:-0700
TZNAME:MST
DTSTART:20200101T000000
END:STANDARD
END:VTIMEZONE
BEGIN:VEVENT
DTSTART;TZID=America/Phoenix:20211220T080000
DTEND;TZID=America/Phoenix:20211220T120000
DTSTAMP:20260424T164443
CREATED:20211116T001337Z
LAST-MODIFIED:20211216T194910Z
UID:10002115-1639987200-1640001600@mobiletrainingsolutions.net
SUMMARY:National Core CA Training - Tucson 12/20
DESCRIPTION:In depth overview of the information covered in the National Core Guide\, concentrating on the information needed to pass the Certified Applicator National Core Applicator exam. Class participants are given a study guide that they fill out during the class and take with them for review.
URL:https://mobiletrainingsolutions.net/event/national-core-ca-training-tucson-12-20/
LOCATION:Mobile Training Solutions\, LLC\, 7009 E. 21st Street\, Tucson\, AZ\, 85710\, United States
ORGANIZER;CN="Linda Harrington":MAILTO:linda@mobiletrainingsolutions.net
GEO:32.2082649;-110.8439314
X-APPLE-STRUCTURED-LOCATION;VALUE=URI;X-ADDRESS=Mobile Training Solutions LLC 7009 E. 21st Street Tucson AZ 85710 United States;X-APPLE-RADIUS=500;X-TITLE=7009 E. 21st Street:geo:-110.8439314,32.2082649
END:VEVENT
BEGIN:VEVENT
DTSTART;TZID=America/Phoenix:20211220T080000
DTEND;TZID=America/Phoenix:20211220T120000
DTSTAMP:20260424T164443
CREATED:20211201T154808Z
LAST-MODIFIED:20211201T154808Z
UID:10002135-1639987200-1640001600@mobiletrainingsolutions.net
SUMMARY:National Core CA Training - ONLINE 12/20
DESCRIPTION:This ONLINE course requires: email address for Microsoft Teams link\, computer with SPEAKERS & MICROPHONE (for communicating with instructor)\, and providing us with a PHYSICAL MAILING ADDRESS for materials we will send ahead of time. \nIn depth overview of the information covered in the National Core Guide\, concentrating on the information needed to pass the Certified Applicator National Core Applicator exam. Class participants are given a study guide that they fill out during the class and take with them for review.
URL:https://mobiletrainingsolutions.net/event/national-core-ca-training-online-12-20/
LOCATION:Mobile Training Solutions\, LLC\, 7009 E. 21st Street\, Tucson\, AZ\, 85710\, United States
ORGANIZER;CN="Linda Harrington":MAILTO:linda@mobiletrainingsolutions.net
GEO:32.2082649;-110.8439314
X-APPLE-STRUCTURED-LOCATION;VALUE=URI;X-ADDRESS=Mobile Training Solutions LLC 7009 E. 21st Street Tucson AZ 85710 United States;X-APPLE-RADIUS=500;X-TITLE=7009 E. 21st Street:geo:-110.8439314,32.2082649
END:VEVENT
BEGIN:VEVENT
DTSTART;TZID=America/Phoenix:20211220T080000
DTEND;TZID=America/Phoenix:20211220T163000
DTSTAMP:20260424T164443
CREATED:20211201T155541Z
LAST-MODIFIED:20211201T155541Z
UID:10002139-1639987200-1640017800@mobiletrainingsolutions.net
SUMMARY:National Core & Industrial & Institutional CA Training - ONLINE 12/20
DESCRIPTION:This ONLINE course requires: email address for MICROSOFT TEAMS link\, computer with SPEAKERS & MICROPHONE (for communicating with instructor)\, and providing us with a PHYSICAL MAILING ADDRESS for materials we will send ahead of time. \nThis is an ALL DAY class covering both National Core and I&I categories. $50 off for taking both categories in the same day. \nCore: In depth overview of the information covered in the National Core Guide\, concentrating on the information needed to pass the Certified Applicator National Core Applicator exam. Class participants are given a study guide that they fill out during the class and take with them for review.\nI&I: Class discussion and study guide for participation while we look at insect basics\, label reading IPM\, and some public health information that prepares students to take the Certified Applicator Industrial & Institutional exam.
URL:https://mobiletrainingsolutions.net/event/national-core-industrial-institutional-ca-training-online-12-20/
LOCATION:Mobile Training Solutions\, LLC\, 7009 E. 21st Street\, Tucson\, AZ\, 85710\, United States
ORGANIZER;CN="Linda Harrington":MAILTO:linda@mobiletrainingsolutions.net
GEO:32.2082649;-110.8439314
X-APPLE-STRUCTURED-LOCATION;VALUE=URI;X-ADDRESS=Mobile Training Solutions LLC 7009 E. 21st Street Tucson AZ 85710 United States;X-APPLE-RADIUS=500;X-TITLE=7009 E. 21st Street:geo:-110.8439314,32.2082649
END:VEVENT
BEGIN:VEVENT
DTSTART;TZID=America/Phoenix:20211220T080000
DTEND;TZID=America/Phoenix:20211220T163000
DTSTAMP:20260424T164443
CREATED:20211201T160248Z
LAST-MODIFIED:20211201T160248Z
UID:10002143-1639987200-1640017800@mobiletrainingsolutions.net
SUMMARY:National Core & Wood Destroying Organisms CA Training - ONLINE 12/20
DESCRIPTION:This ONLINE course requires: email address for MICROSOFT TEAMS link\, computer with SPEAKERS & MICROPHONE (for communicating with instructor)\, and providing us with a PHYSICAL MAILING ADDRESS for materials we will send ahead of time. \nThis is an ALL DAY class covering both National Core and WDO categories. $50 off for taking both categories in the same day.\nCore: In depth overview of the information covered in the National Core Guide\, concentrating on the information needed to pass the Certified Applicator National Core Applicator exam. Class participants are given a study guide that they fill out during the class and take with them for review.\nWDO: Class discussion and study guide for participation while we look at insect basics\, label reading IPM\, and some public health information that prepares students to take the Certified Applicator Wood Destroying Organisms exam.
URL:https://mobiletrainingsolutions.net/event/national-core-wood-destroying-organisms-ca-training-online-12-20/
LOCATION:Mobile Training Solutions\, LLC\, 7009 E. 21st Street\, Tucson\, AZ\, 85710\, United States
ORGANIZER;CN="Linda Harrington":MAILTO:linda@mobiletrainingsolutions.net
GEO:32.2082649;-110.8439314
X-APPLE-STRUCTURED-LOCATION;VALUE=URI;X-ADDRESS=Mobile Training Solutions LLC 7009 E. 21st Street Tucson AZ 85710 United States;X-APPLE-RADIUS=500;X-TITLE=7009 E. 21st Street:geo:-110.8439314,32.2082649
END:VEVENT
BEGIN:VEVENT
DTSTART;TZID=America/Phoenix:20211220T080000
DTEND;TZID=America/Phoenix:20211220T170000
DTSTAMP:20260424T164443
CREATED:20211116T004522Z
LAST-MODIFIED:20211216T193802Z
UID:10002125-1639987200-1640019600@mobiletrainingsolutions.net
SUMMARY:National Core & Industrial & Institutional CA Training - Tucson 12/20
DESCRIPTION:This is an ALL DAY class covering both National Core and I&I categories. $50 off for taking both categories in the same day. \nCore: In depth overview of the information covered in the National Core Guide\, concentrating on the information needed to pass the Certified Applicator National Core Applicator exam. Class participants are given a study guide that they fill out during the class and take with them for review. \nI&I: Class discussion and study guide for participation while we look at insect basics\, label reading IPM\, and some public health information that prepares students to take the Certified Applicator Industrial & Institutional exam.
URL:https://mobiletrainingsolutions.net/event/national-core-industrial-institutional-ca-training-tucson-12-20/
LOCATION:Mobile Training Solutions\, LLC\, 7009 E. 21st Street\, Tucson\, AZ\, 85710\, United States
ORGANIZER;CN="Linda Harrington":MAILTO:linda@mobiletrainingsolutions.net
GEO:32.2082649;-110.8439314
X-APPLE-STRUCTURED-LOCATION;VALUE=URI;X-ADDRESS=Mobile Training Solutions LLC 7009 E. 21st Street Tucson AZ 85710 United States;X-APPLE-RADIUS=500;X-TITLE=7009 E. 21st Street:geo:-110.8439314,32.2082649
END:VEVENT
BEGIN:VEVENT
DTSTART;TZID=America/Phoenix:20211220T080000
DTEND;TZID=America/Phoenix:20211220T170000
DTSTAMP:20260424T164443
CREATED:20211116T005120Z
LAST-MODIFIED:20211216T193706Z
UID:10002127-1639987200-1640019600@mobiletrainingsolutions.net
SUMMARY:National Core & Wood Destroying Organisms CA Training - Tucson 12/20
DESCRIPTION:This is an ALL DAY class covering both National Core and WDO categories. $50 off for taking both categories in the same day. \nCore: In depth overview of the information covered in the National Core Guide\, concentrating on the information needed to pass the Certified Applicator National Core Applicator exam. Class participants are given a study guide that they fill out during the class and take with them for review. \nWDO: An overview of Wood Destroying Organisms and their differences and how we would inspect and treat for them. In depth look at graphing and the Wood Destroying Insect Inspection Report. Student is given a study guide for review and is prepared to take the Certified Applicator Wood Destroying Organisms exam.
URL:https://mobiletrainingsolutions.net/event/national-core-wood-destroying-organisms-ca-training-tucson-12-20/
LOCATION:Mobile Training Solutions\, LLC\, 7009 E. 21st Street\, Tucson\, AZ\, 85710\, United States
ORGANIZER;CN="Linda Harrington":MAILTO:linda@mobiletrainingsolutions.net
GEO:32.2082649;-110.8439314
X-APPLE-STRUCTURED-LOCATION;VALUE=URI;X-ADDRESS=Mobile Training Solutions LLC 7009 E. 21st Street Tucson AZ 85710 United States;X-APPLE-RADIUS=500;X-TITLE=7009 E. 21st Street:geo:-110.8439314,32.2082649
END:VEVENT
BEGIN:VEVENT
DTSTART;TZID=America/Phoenix:20211220T120000
DTEND;TZID=America/Phoenix:20211220T163000
DTSTAMP:20260424T164443
CREATED:20211115T233941Z
LAST-MODIFIED:20211216T193631Z
UID:10002107-1640001600-1640017800@mobiletrainingsolutions.net
SUMMARY:Wood Destroying Organisms CA Training - Tucson 12/20
DESCRIPTION:An overview of Wood Destroying Organisms and their differences and how we would inspect and treat for them. In depth look at graphing and the Wood Destroying Insect Inspection Report. Student is given a study guide for review and is prepared to take the Certified Applicator Wood Destroying Organisms exam.
URL:https://mobiletrainingsolutions.net/event/wood-destroying-organisms-ca-training-tucson-12-20/
LOCATION:Mobile Training Solutions\, LLC\, 7009 E. 21st Street\, Tucson\, AZ\, 85710\, United States
ORGANIZER;CN="Linda Harrington":MAILTO:linda@mobiletrainingsolutions.net
GEO:32.2082649;-110.8439314
X-APPLE-STRUCTURED-LOCATION;VALUE=URI;X-ADDRESS=Mobile Training Solutions LLC 7009 E. 21st Street Tucson AZ 85710 United States;X-APPLE-RADIUS=500;X-TITLE=7009 E. 21st Street:geo:-110.8439314,32.2082649
END:VEVENT
BEGIN:VEVENT
DTSTART;TZID=America/Phoenix:20211220T120000
DTEND;TZID=America/Phoenix:20211220T163000
DTSTAMP:20260424T164443
CREATED:20211216T172450Z
LAST-MODIFIED:20211216T172450Z
UID:10002235-1640001600-1640017800@mobiletrainingsolutions.net
SUMMARY:Ornamental & Turf/Right of Way CA Training - ONLINE 12/20
DESCRIPTION:This ONLINE course requires: email address for MICROSOFT TEAMS link\, computer with SPEAKERS & MICROPHONE (for communicating with instructor)\, and providing us with a PHYSICAL MAILING ADDRESS for materials we will send ahead of time. \nThis class prepares students for the Certified Applicator Ornamental & Turf and Right of Way Exams. You can take BOTH weed control license exams after this one class.  A study guide is provided and filled out as we look at various weeds and methods of weed control. We will also look at ornamental insect control.
URL:https://mobiletrainingsolutions.net/event/ornamental-turf-right-of-way-ca-training-online-12-20/
LOCATION:Online Training\, AZ\, United States
ORGANIZER;CN="Linda Harrington":MAILTO:linda@mobiletrainingsolutions.net
GEO:34.0489281;-111.0937311
END:VEVENT
BEGIN:VEVENT
DTSTART;TZID=America/Phoenix:20211220T123000
DTEND;TZID=America/Phoenix:20211220T163000
DTSTAMP:20260424T164443
CREATED:20211116T002604Z
LAST-MODIFIED:20211216T193908Z
UID:10002119-1640003400-1640017800@mobiletrainingsolutions.net
SUMMARY:Industrial & Institutional CA Training - Tucson 12/20
DESCRIPTION:Class discussion and study guide for participation while we look at insect basics\, label reading and some public health information that prepares students to take the Certified Applicator Industrial & Institutional exam.
URL:https://mobiletrainingsolutions.net/event/industrial-institutional-ca-training-tucson-12-20/
LOCATION:Mobile Training Solutions\, LLC\, 7009 E. 21st Street\, Tucson\, AZ\, 85710\, United States
ORGANIZER;CN="Linda Harrington":MAILTO:linda@mobiletrainingsolutions.net
GEO:32.2082649;-110.8439314
X-APPLE-STRUCTURED-LOCATION;VALUE=URI;X-ADDRESS=Mobile Training Solutions LLC 7009 E. 21st Street Tucson AZ 85710 United States;X-APPLE-RADIUS=500;X-TITLE=7009 E. 21st Street:geo:-110.8439314,32.2082649
END:VEVENT
BEGIN:VEVENT
DTSTART;TZID=America/Phoenix:20211220T123000
DTEND;TZID=America/Phoenix:20211220T163000
DTSTAMP:20260424T164443
CREATED:20211201T155213Z
LAST-MODIFIED:20211201T155213Z
UID:10002137-1640003400-1640017800@mobiletrainingsolutions.net
SUMMARY:Industrial & Institutional CA Training - ONLINE 12/20
DESCRIPTION:This ONLINE course requires: email address for MICROSOFT TEAMS link\, computer with SPEAKERS & MICROPHONE (for communicating with instructor)\, and providing us with a PHYSICAL MAILING ADDRESS for materials we will send ahead of time. \nClass discussion and study guide for participation while we look at insect basics\, label reading and some public health information that prepares students to take the Certified Applicator Industrial & Institutional exam.
URL:https://mobiletrainingsolutions.net/event/industrial-institutional-ca-training-online-12-20/
LOCATION:Mobile Training Solutions\, LLC\, 7009 E. 21st Street\, Tucson\, AZ\, 85710\, United States
ORGANIZER;CN="Linda Harrington":MAILTO:linda@mobiletrainingsolutions.net
GEO:32.2082649;-110.8439314
X-APPLE-STRUCTURED-LOCATION;VALUE=URI;X-ADDRESS=Mobile Training Solutions LLC 7009 E. 21st Street Tucson AZ 85710 United States;X-APPLE-RADIUS=500;X-TITLE=7009 E. 21st Street:geo:-110.8439314,32.2082649
END:VEVENT
BEGIN:VEVENT
DTSTART;TZID=America/Phoenix:20211220T123000
DTEND;TZID=America/Phoenix:20211220T163000
DTSTAMP:20260424T164443
CREATED:20211201T160110Z
LAST-MODIFIED:20211201T160110Z
UID:10002142-1640003400-1640017800@mobiletrainingsolutions.net
SUMMARY:Wood Destroying Organisms CA Training - ONLINE 12/9
DESCRIPTION:This ONLINE course requires: email address for MICROSOFT TEAMS link\, computer with SPEAKERS & MICROPHONE (for communicating with instructor)\, and providing us with a PHYSICAL MAILING ADDRESS for materials we will send ahead of time. \nThis class prepares students for the Certified Applicator Wood Destroying Organisms (WDO) Exam.  A study guide is provided and filled out as we look at various WDOs\, WDIIRs and graphing.
URL:https://mobiletrainingsolutions.net/event/wood-destroying-organisms-ca-training-online-12-9/
LOCATION:Mobile Training Solutions\, LLC\, 7009 E. 21st Street\, Tucson\, AZ\, 85710\, United States
ORGANIZER;CN="Linda Harrington":MAILTO:linda@mobiletrainingsolutions.net
GEO:32.2082649;-110.8439314
X-APPLE-STRUCTURED-LOCATION;VALUE=URI;X-ADDRESS=Mobile Training Solutions LLC 7009 E. 21st Street Tucson AZ 85710 United States;X-APPLE-RADIUS=500;X-TITLE=7009 E. 21st Street:geo:-110.8439314,32.2082649
END:VEVENT
END:VCALENDAR