BEGIN:VCALENDAR
VERSION:2.0
PRODID:-//Mobile Training Solutions LLC - ECPv6.15.20//NONSGML v1.0//EN
CALSCALE:GREGORIAN
METHOD:PUBLISH
X-WR-CALNAME:Mobile Training Solutions LLC
X-ORIGINAL-URL:https://mobiletrainingsolutions.net
X-WR-CALDESC:Events for Mobile Training Solutions LLC
REFRESH-INTERVAL;VALUE=DURATION:PT1H
X-Robots-Tag:noindex
X-PUBLISHED-TTL:PT1H
BEGIN:VTIMEZONE
TZID:America/Phoenix
BEGIN:STANDARD
TZOFFSETFROM:-0700
TZOFFSETTO:-0700
TZNAME:MST
DTSTART:20210101T000000
END:STANDARD
END:VTIMEZONE
BEGIN:VEVENT
DTSTART;TZID=America/Phoenix:20220128T080000
DTEND;TZID=America/Phoenix:20220128T143000
DTSTAMP:20260424T151820
CREATED:20220104T232428Z
LAST-MODIFIED:20220104T232428Z
UID:10002236-1643356800-1643380200@mobiletrainingsolutions.net
SUMMARY:6 Happy New Year CEU Hours - TUCSON - January 28
DESCRIPTION:6 hours of CEUs covering various Structural Pest Control topics. These CEUs are for credit towards your License Renewal with Arizona Department of Agriculture: Pest Management Division\, Golf Course Licenses and other Dept. of Ag licenses (PUG). Coffee in the morning and lunch provided.
URL:https://mobiletrainingsolutions.net/event/6-happy-new-year-ceu-hours-tucson-january-28/
LOCATION:Mobile Training Solutions\, LLC\, 7009 E. 21st Street\, Tucson\, AZ\, 85710\, United States
ORGANIZER;CN="Linda Harrington":MAILTO:linda@mobiletrainingsolutions.net
GEO:32.2082649;-110.8439314
X-APPLE-STRUCTURED-LOCATION;VALUE=URI;X-ADDRESS=Mobile Training Solutions LLC 7009 E. 21st Street Tucson AZ 85710 United States;X-APPLE-RADIUS=500;X-TITLE=7009 E. 21st Street:geo:-110.8439314,32.2082649
END:VEVENT
BEGIN:VEVENT
DTSTART;TZID=America/Phoenix:20220128T080000
DTEND;TZID=America/Phoenix:20220128T143000
DTSTAMP:20260424T151820
CREATED:20220104T234645Z
LAST-MODIFIED:20220104T234645Z
UID:10002237-1643356800-1643380200@mobiletrainingsolutions.net
SUMMARY:6 Happy New Year CEU Hours - ONLINE - January 28
DESCRIPTION:ONLINE Continuing education seminar for AZDA:PMD license renewal. $90.00 tickets. \nThis Continuing Education seminar will be broadcast online via Microsoft Teams. You do not need to have Teams installed to participate. We will email an invite link that you will click and follow to participate in the seminar. We ask that you sign in at least 30min (7:30am) early to be sure there are no connection issues. You must stay connected to the meeting for its entirety to receive credit for all 6 hours.  \nThis class will be a broadcast of a live class we are holding in Tucson. \nYou may contact Jason 520-395-6080 or Linda 520-419-9575 if you have questions or issues regarding signing in. \nLINKS FOR THE MEETING WILL BE SENT OUT BETWEEN 3PM & 5PM THE DAY PRIOR TO THE CEU SEMINAR.
URL:https://mobiletrainingsolutions.net/event/6-happy-new-year-ceu-hours-online-january-28-2/
LOCATION:Online Training\, AZ\, United States
ORGANIZER;CN="Linda Harrington":MAILTO:linda@mobiletrainingsolutions.net
GEO:34.0489281;-111.0937311
END:VEVENT
END:VCALENDAR