BEGIN:VCALENDAR
VERSION:2.0
PRODID:-//Mobile Training Solutions LLC - ECPv6.15.20//NONSGML v1.0//EN
CALSCALE:GREGORIAN
METHOD:PUBLISH
X-WR-CALNAME:Mobile Training Solutions LLC
X-ORIGINAL-URL:https://mobiletrainingsolutions.net
X-WR-CALDESC:Events for Mobile Training Solutions LLC
REFRESH-INTERVAL;VALUE=DURATION:PT1H
X-Robots-Tag:noindex
X-PUBLISHED-TTL:PT1H
BEGIN:VTIMEZONE
TZID:America/Phoenix
BEGIN:STANDARD
TZOFFSETFROM:-0700
TZOFFSETTO:-0700
TZNAME:MST
DTSTART:20210101T000000
END:STANDARD
END:VTIMEZONE
BEGIN:VEVENT
DTSTART;TZID=America/Phoenix:20220209T080000
DTEND;TZID=America/Phoenix:20220209T120000
DTSTAMP:20260424T135517
CREATED:20211206T223236Z
LAST-MODIFIED:20211206T223236Z
UID:10002199-1644393600-1644408000@mobiletrainingsolutions.net
SUMMARY:Wood Destroying Organisms CA Training - Tucson 2/9
DESCRIPTION:An overview of Wood Destroying Organisms and their differences and how we would inspect and treat for them. In depth look at graphing and the Wood Destroying Insect Inspection Report. Student is given a study guide for review and is prepared to take the Certified Applicator Wood Destroying Organisms exam.
URL:https://mobiletrainingsolutions.net/event/wood-destroying-organisms-ca-training-tucson-2-9/
LOCATION:Mobile Training Solutions\, LLC\, 7009 E. 21st Street\, Tucson\, AZ\, 85710\, United States
ORGANIZER;CN="Linda Harrington":MAILTO:linda@mobiletrainingsolutions.net
GEO:32.2082649;-110.8439314
X-APPLE-STRUCTURED-LOCATION;VALUE=URI;X-ADDRESS=Mobile Training Solutions LLC 7009 E. 21st Street Tucson AZ 85710 United States;X-APPLE-RADIUS=500;X-TITLE=7009 E. 21st Street:geo:-110.8439314,32.2082649
END:VEVENT
BEGIN:VEVENT
DTSTART;TZID=America/Phoenix:20220209T080000
DTEND;TZID=America/Phoenix:20220209T120000
DTSTAMP:20260424T135517
CREATED:20220131T224026Z
LAST-MODIFIED:20220131T224026Z
UID:10002290-1644393600-1644408000@mobiletrainingsolutions.net
SUMMARY:Wood Destroying Organisms CA Training - Online 2/9
DESCRIPTION:This ONLINE course requires: email address for MICROSOFT TEAMS link\, computer with SPEAKERS & MICROPHONE (for communicating with instructor)\, and providing us with a PHYSICAL MAILING ADDRESS for materials we will send ahead of time. \nThis class prepares students for the Certified Applicator Wood Destroying Organisms (WDO) Exam.  A study guide is provided and filled out as we look at various WDOs\, WDIIRs and graphing.
URL:https://mobiletrainingsolutions.net/event/wood-destroying-organisms-ca-training-online-2-9/
LOCATION:Online Training\, AZ\, United States
ORGANIZER;CN="Linda Harrington":MAILTO:linda@mobiletrainingsolutions.net
GEO:34.0489281;-111.0937311
END:VEVENT
END:VCALENDAR