BEGIN:VCALENDAR
VERSION:2.0
PRODID:-//Mobile Training Solutions LLC - ECPv6.15.20//NONSGML v1.0//EN
CALSCALE:GREGORIAN
METHOD:PUBLISH
X-WR-CALNAME:Mobile Training Solutions LLC
X-ORIGINAL-URL:https://mobiletrainingsolutions.net
X-WR-CALDESC:Events for Mobile Training Solutions LLC
REFRESH-INTERVAL;VALUE=DURATION:PT1H
X-Robots-Tag:noindex
X-PUBLISHED-TTL:PT1H
BEGIN:VTIMEZONE
TZID:America/Phoenix
BEGIN:STANDARD
TZOFFSETFROM:-0700
TZOFFSETTO:-0700
TZNAME:MST
DTSTART:20210101T000000
END:STANDARD
END:VTIMEZONE
BEGIN:VEVENT
DTSTART;TZID=America/Phoenix:20220222T080000
DTEND;TZID=America/Phoenix:20220222T120000
DTSTAMP:20260424T135520
CREATED:20211206T215210Z
LAST-MODIFIED:20220103T163040Z
UID:10002184-1645516800-1645531200@mobiletrainingsolutions.net
SUMMARY:Industrial & Institutional CA Training - Tucson 2/22
DESCRIPTION:Class discussion and study guide for participation while we look at insect basics\, label reading and some public health information that prepares students to take the Certified Applicator Industrial & Institutional exam.
URL:https://mobiletrainingsolutions.net/event/industrial-institutional-ca-training-tucson-2-22-2/
LOCATION:Mobile Training Solutions\, LLC\, 7009 E. 21st Street\, Tucson\, AZ\, 85710\, United States
ORGANIZER;CN="Linda Harrington":MAILTO:linda@mobiletrainingsolutions.net
GEO:32.2082649;-110.8439314
X-APPLE-STRUCTURED-LOCATION;VALUE=URI;X-ADDRESS=Mobile Training Solutions LLC 7009 E. 21st Street Tucson AZ 85710 United States;X-APPLE-RADIUS=500;X-TITLE=7009 E. 21st Street:geo:-110.8439314,32.2082649
END:VEVENT
BEGIN:VEVENT
DTSTART;TZID=America/Phoenix:20220222T080000
DTEND;TZID=America/Phoenix:20220222T143000
DTSTAMP:20260424T135520
CREATED:20220104T235531Z
LAST-MODIFIED:20220104T235531Z
UID:10002240-1645516800-1645540200@mobiletrainingsolutions.net
SUMMARY:Safford 6 Hour CEU - 2/22/22
DESCRIPTION:Join us for 6 hours of CEUs covering topics such as: Turf Management\, Scorpions\, Ticks & AZ weeds. This agenda is tentative and may change on the day based on attendee interest. Lunch will be included.
URL:https://mobiletrainingsolutions.net/event/safford-6-hour-ceu-2-22-22/
LOCATION:City of Safford Library\, 808 7th Ave Safford\, Safford\, United States
ORGANIZER;CN="Linda Harrington":MAILTO:linda@mobiletrainingsolutions.net
END:VEVENT
END:VCALENDAR