BEGIN:VCALENDAR
VERSION:2.0
PRODID:-//Mobile Training Solutions LLC - ECPv6.15.20//NONSGML v1.0//EN
CALSCALE:GREGORIAN
METHOD:PUBLISH
X-WR-CALNAME:Mobile Training Solutions LLC
X-ORIGINAL-URL:https://mobiletrainingsolutions.net
X-WR-CALDESC:Events for Mobile Training Solutions LLC
REFRESH-INTERVAL;VALUE=DURATION:PT1H
X-Robots-Tag:noindex
X-PUBLISHED-TTL:PT1H
BEGIN:VTIMEZONE
TZID:America/Phoenix
BEGIN:STANDARD
TZOFFSETFROM:-0700
TZOFFSETTO:-0700
TZNAME:MST
DTSTART:20210101T000000
END:STANDARD
END:VTIMEZONE
BEGIN:VEVENT
DTSTART;TZID=America/Phoenix:20220224T080000
DTEND;TZID=America/Phoenix:20220224T120000
DTSTAMP:20260424T135436
CREATED:20211207T004114Z
LAST-MODIFIED:20211207T004240Z
UID:10002214-1645689600-1645704000@mobiletrainingsolutions.net
SUMMARY:Ornamental & Turf/Right of Way CA Training - Tucson 2/24
DESCRIPTION:This class prepares students for the Certified Applicator Ornamental & Turf and Right of Way Exams. A study guide is provided and filled out as we look at various weeds and methods of weed control. We will also look at ornamental insect control.
URL:https://mobiletrainingsolutions.net/event/ornamental-turf-right-of-way-ca-training-tucson-2-24-2/
LOCATION:Mobile Training Solutions\, LLC\, 7009 E. 21st Street\, Tucson\, AZ\, 85710\, United States
ORGANIZER;CN="Linda Harrington":MAILTO:linda@mobiletrainingsolutions.net
GEO:32.2082649;-110.8439314
X-APPLE-STRUCTURED-LOCATION;VALUE=URI;X-ADDRESS=Mobile Training Solutions LLC 7009 E. 21st Street Tucson AZ 85710 United States;X-APPLE-RADIUS=500;X-TITLE=7009 E. 21st Street:geo:-110.8439314,32.2082649
END:VEVENT
BEGIN:VEVENT
DTSTART;TZID=America/Phoenix:20220224T123000
DTEND;TZID=America/Phoenix:20220224T163000
DTSTAMP:20260424T135436
CREATED:20220209T221545Z
LAST-MODIFIED:20220209T221705Z
UID:10002311-1645705800-1645720200@mobiletrainingsolutions.net
SUMMARY:CQA Wood Destroying Organisms Qualifying Party Training - Tucson/Online 2/24
DESCRIPTION:An overview of Wood Destroying Organisms\, their differences\, how we would inspect and treat for them. In depth look at graphing and the Wood Destroying Insect Inspection Report. Student is given a study guide for review and is prepared to take the Certified Qualified Applicator Wood Destroying Organisms exam. \nNO VIDEOS\, ALL LIVE TRAINING.
URL:https://mobiletrainingsolutions.net/event/cqa-wood-destroying-organisms-qualifying-party-training-tucson-online-2-24/
LOCATION:Mobile Training Solutions\, LLC\, 7009 E. 21st Street\, Tucson\, AZ\, 85710\, United States
ORGANIZER;CN="Linda Harrington":MAILTO:linda@mobiletrainingsolutions.net
GEO:32.2082649;-110.8439314
X-APPLE-STRUCTURED-LOCATION;VALUE=URI;X-ADDRESS=Mobile Training Solutions LLC 7009 E. 21st Street Tucson AZ 85710 United States;X-APPLE-RADIUS=500;X-TITLE=7009 E. 21st Street:geo:-110.8439314,32.2082649
END:VEVENT
END:VCALENDAR