BEGIN:VCALENDAR
VERSION:2.0
PRODID:-//Mobile Training Solutions LLC - ECPv6.15.20//NONSGML v1.0//EN
CALSCALE:GREGORIAN
METHOD:PUBLISH
X-WR-CALNAME:Mobile Training Solutions LLC
X-ORIGINAL-URL:https://mobiletrainingsolutions.net
X-WR-CALDESC:Events for Mobile Training Solutions LLC
REFRESH-INTERVAL;VALUE=DURATION:PT1H
X-Robots-Tag:noindex
X-PUBLISHED-TTL:PT1H
BEGIN:VTIMEZONE
TZID:America/Phoenix
BEGIN:STANDARD
TZOFFSETFROM:-0700
TZOFFSETTO:-0700
TZNAME:MST
DTSTART:20210101T000000
END:STANDARD
END:VTIMEZONE
BEGIN:VEVENT
DTSTART;TZID=America/Phoenix:20220225T080000
DTEND;TZID=America/Phoenix:20220225T143000
DTSTAMP:20260424T135435
CREATED:20220104T234916Z
LAST-MODIFIED:20220104T234916Z
UID:10002238-1645776000-1645799400@mobiletrainingsolutions.net
SUMMARY:6 Hour CEU Seminar You'll Love! - Tucson 2/25/2022
DESCRIPTION:6 hours of CEUs covering various Structural Pest Control topics. These CEUs are for credit towards your License Renewal with Arizona Department of Agriculture: Pest Management Division\, Golf Course Licenses and other Dept. of Ag licenses (PUG). \nCoffee in the morning and lunch provided.
URL:https://mobiletrainingsolutions.net/event/6-hour-ceu-seminar-youll-love-tucson-2-25-2022/
LOCATION:Mobile Training Solutions\, LLC\, 7009 E. 21st Street\, Tucson\, AZ\, 85710\, United States
ORGANIZER;CN="Linda Harrington":MAILTO:linda@mobiletrainingsolutions.net
GEO:32.2082649;-110.8439314
X-APPLE-STRUCTURED-LOCATION;VALUE=URI;X-ADDRESS=Mobile Training Solutions LLC 7009 E. 21st Street Tucson AZ 85710 United States;X-APPLE-RADIUS=500;X-TITLE=7009 E. 21st Street:geo:-110.8439314,32.2082649
END:VEVENT
BEGIN:VEVENT
DTSTART;TZID=America/Phoenix:20220225T080000
DTEND;TZID=America/Phoenix:20220225T143000
DTSTAMP:20260424T135435
CREATED:20220104T235141Z
LAST-MODIFIED:20220104T235141Z
UID:10002239-1645776000-1645799400@mobiletrainingsolutions.net
SUMMARY:6 Hour CEU Seminar You'll Love! - ONLINE 2/25/2022
DESCRIPTION:6 hours of CEUs covering various Structural Pest Control topics. These CEUs are for credit towards your License Renewal with Arizona Department of Agriculture: Pest Management Division\, Golf Course Licenses and other Dept. of Ag licenses (PUG). \nONLINE Continuing education seminar for AZDA:PMD license renewal. $95.00 tickets. \nThis Continuing Education seminar will be broadcast online via Microsoft Teams. You do not need to have Teams installed to participate. We will email an invite link that you will click and follow to participate in the seminar. We ask that you sign in at least 30min (7:30am) early to be sure there are no connection issues. You must stay connected to the meeting for its entirety to receive credit for all 6 hours.  \nThis class will be a broadcast of a live class we are holding in Tucson. Topics will include Ants and Control\, Equipment Calibration\, and more! You can ask questions via mic and texting during the presentations. \nYou may contact Jason 520-395-6080 or Linda 520-419-9575 if you have questions or issues regarding signing in. \nLINKS WILL BE SENT OUT VIA EMAIL BETWEEN 3 & 5PM THE DAY PRIOR TO THE CEU SEMINAR.
URL:https://mobiletrainingsolutions.net/event/6-hour-ceu-seminar-youll-love-online-2-25-2022/
LOCATION:Online Training\, AZ\, United States
ORGANIZER;CN="Linda Harrington":MAILTO:linda@mobiletrainingsolutions.net
GEO:34.0489281;-111.0937311
END:VEVENT
END:VCALENDAR