BEGIN:VCALENDAR
VERSION:2.0
PRODID:-//Mobile Training Solutions LLC - ECPv6.15.20//NONSGML v1.0//EN
CALSCALE:GREGORIAN
METHOD:PUBLISH
X-WR-CALNAME:Mobile Training Solutions LLC
X-ORIGINAL-URL:https://mobiletrainingsolutions.net
X-WR-CALDESC:Events for Mobile Training Solutions LLC
REFRESH-INTERVAL;VALUE=DURATION:PT1H
X-Robots-Tag:noindex
X-PUBLISHED-TTL:PT1H
BEGIN:VTIMEZONE
TZID:America/Phoenix
BEGIN:STANDARD
TZOFFSETFROM:-0700
TZOFFSETTO:-0700
TZNAME:MST
DTSTART:20210101T000000
END:STANDARD
END:VTIMEZONE
BEGIN:VEVENT
DTSTART;TZID=America/Phoenix:20220714T080000
DTEND;TZID=America/Phoenix:20220714T120000
DTSTAMP:20260424T043721
CREATED:20220518T195435Z
LAST-MODIFIED:20220518T195435Z
UID:10002448-1657785600-1657800000@mobiletrainingsolutions.net
SUMMARY:Ornamental & Turf/Right of Way CA Training - Tucson 7/14
DESCRIPTION:This class prepares students for the Certified Applicator Ornamental & Turf and Right of Way Exams. A study guide is provided and filled out as we look at various weeds and methods of weed control. We will also look at ornamental insect control.
URL:https://mobiletrainingsolutions.net/event/ornamental-turf-right-of-way-ca-training-tucson-7-14/
LOCATION:Mobile Training Solutions\, LLC\, 7009 E. 21st Street\, Tucson\, AZ\, 85710\, United States
ORGANIZER;CN="Linda Harrington":MAILTO:linda@mobiletrainingsolutions.net
GEO:32.2082649;-110.8439314
X-APPLE-STRUCTURED-LOCATION;VALUE=URI;X-ADDRESS=Mobile Training Solutions LLC 7009 E. 21st Street Tucson AZ 85710 United States;X-APPLE-RADIUS=500;X-TITLE=7009 E. 21st Street:geo:-110.8439314,32.2082649
END:VEVENT
BEGIN:VEVENT
DTSTART;TZID=America/Phoenix:20220714T080000
DTEND;TZID=America/Phoenix:20220714T120000
DTSTAMP:20260424T043721
CREATED:20220627T175110Z
LAST-MODIFIED:20220627T175110Z
UID:10002518-1657785600-1657800000@mobiletrainingsolutions.net
SUMMARY:(QP) Certified Qualified Applicator Training National Core Training - ONLINE 7/14/22
DESCRIPTION:In depth overview of the information covered in the National Core Guide and AZ State Law and Rule\, concentrating on the information needed to pass the Certified Qualified Applicator National Core Applicator exam. Class participants are given a study guide that they fill out during the class and take with them for review. \nClass will be taught through Microsoft Teams. You will receive a link to join the class the day prior to class. We must ship out a physical copy of your study guide. Please provide the physical address where you would like the guide sent in the ticketing info below. \nAll tickets must be purchased by MONDAY\, JULY 11th at 11am to attend this class. This is due to shipping times for study guides.
URL:https://mobiletrainingsolutions.net/event/qp-certified-qualified-applicator-training-national-core-training-online-7-14-22/
LOCATION:Online Training\, AZ\, United States
ORGANIZER;CN="Linda Harrington":MAILTO:linda@mobiletrainingsolutions.net
GEO:34.0489281;-111.0937311
END:VEVENT
BEGIN:VEVENT
DTSTART;TZID=America/Phoenix:20220714T080000
DTEND;TZID=America/Phoenix:20220714T120000
DTSTAMP:20260424T043721
CREATED:20220627T180521Z
LAST-MODIFIED:20220627T180539Z
UID:10002519-1657785600-1657800000@mobiletrainingsolutions.net
SUMMARY:(QP) Certified Qualified Applicator Training National Core Training - Tucson 7/14/22
DESCRIPTION:In depth overview of the information covered in the National Core Guide and AZ State Law and Rule\, concentrating on the information needed to pass the Certified Qualified Applicator National Core Applicator exam. Class participants are given a study guide that they fill out during the class and take with them for review.
URL:https://mobiletrainingsolutions.net/event/qp-certified-qualified-applicator-training-national-core-training-tucson-7-14-22/
LOCATION:Mobile Training Solutions\, LLC\, 7009 E. 21st Street\, Tucson\, AZ\, 85710\, United States
ORGANIZER;CN="Linda Harrington":MAILTO:linda@mobiletrainingsolutions.net
GEO:32.2082649;-110.8439314
X-APPLE-STRUCTURED-LOCATION;VALUE=URI;X-ADDRESS=Mobile Training Solutions LLC 7009 E. 21st Street Tucson AZ 85710 United States;X-APPLE-RADIUS=500;X-TITLE=7009 E. 21st Street:geo:-110.8439314,32.2082649
END:VEVENT
END:VCALENDAR