BEGIN:VCALENDAR
VERSION:2.0
PRODID:-//Mobile Training Solutions LLC - ECPv6.15.20//NONSGML v1.0//EN
CALSCALE:GREGORIAN
METHOD:PUBLISH
X-ORIGINAL-URL:https://mobiletrainingsolutions.net
X-WR-CALDESC:Events for Mobile Training Solutions LLC
REFRESH-INTERVAL;VALUE=DURATION:PT1H
X-Robots-Tag:noindex
X-PUBLISHED-TTL:PT1H
BEGIN:VTIMEZONE
TZID:America/Phoenix
BEGIN:STANDARD
TZOFFSETFROM:-0700
TZOFFSETTO:-0700
TZNAME:MST
DTSTART:20210101T000000
END:STANDARD
END:VTIMEZONE
BEGIN:VEVENT
DTSTART;TZID=America/Phoenix:20220805T080000
DTEND;TZID=America/Phoenix:20220805T113000
DTSTAMP:20260424T043814
CREATED:20220725T170237Z
LAST-MODIFIED:20220725T170237Z
UID:10002570-1659686400-1659699000@mobiletrainingsolutions.net
SUMMARY:CQA Qualifying Party National Core Training - ONLINE 8/5
DESCRIPTION:In depth overview of the information covered in the National Core Guide and AZ State Law and Rule\, concentrating on the information needed to pass the Certified Qualified Applicator National Core Applicator exam. Class participants are given a study guide that they fill out during the class for review.
URL:https://mobiletrainingsolutions.net/event/cqa-qualifying-party-national-core-training-online-8-5/
LOCATION:Online Training\, AZ\, United States
ORGANIZER;CN="Linda Harrington":MAILTO:linda@mobiletrainingsolutions.net
GEO:34.0489281;-111.0937311
END:VEVENT
BEGIN:VEVENT
DTSTART;TZID=America/Phoenix:20220805T080000
DTEND;TZID=America/Phoenix:20220805T113000
DTSTAMP:20260424T043814
CREATED:20220725T170538Z
LAST-MODIFIED:20220725T170538Z
UID:10002571-1659686400-1659699000@mobiletrainingsolutions.net
SUMMARY:CQA Qualifying Party National Core Training - CLASSROOM 8/5
DESCRIPTION:In depth overview of the information covered in the National Core Guide and AZ State Law and Rule\, concentrating on the information needed to pass the Certified Qualified Applicator National Core Applicator exam. Class participants are given a study guide that they fill out during the class for review.
URL:https://mobiletrainingsolutions.net/event/cqa-qualifying-party-national-core-training-classroom-8-5/
LOCATION:Mobile Training Solutions\, LLC\, 7009 E. 21st Street\, Tucson\, AZ\, 85710\, United States
ORGANIZER;CN="Linda Harrington":MAILTO:linda@mobiletrainingsolutions.net
GEO:32.2082649;-110.8439314
X-APPLE-STRUCTURED-LOCATION;VALUE=URI;X-ADDRESS=Mobile Training Solutions LLC 7009 E. 21st Street Tucson AZ 85710 United States;X-APPLE-RADIUS=500;X-TITLE=7009 E. 21st Street:geo:-110.8439314,32.2082649
END:VEVENT
BEGIN:VEVENT
DTSTART;TZID=America/Phoenix:20220805T120000
DTEND;TZID=America/Phoenix:20220805T160000
DTSTAMP:20260424T043814
CREATED:20220725T164932Z
LAST-MODIFIED:20220725T165849Z
UID:10002568-1659700800-1659715200@mobiletrainingsolutions.net
SUMMARY:CQA Qualifying Party Industrial & Institutional Training - ONLINE 8/5
DESCRIPTION:Class discussion and study guide for participation while we look at insect basics\, label reading and some public health information that prepares students to take the Certified Qualified Applicator Industrial & Institutional (General Pest Control) exam.
URL:https://mobiletrainingsolutions.net/event/cqa-qualifying-party-industrial-institutional-training-online-8-5/
LOCATION:Online Training\, AZ\, United States
ORGANIZER;CN="Linda Harrington":MAILTO:linda@mobiletrainingsolutions.net
GEO:34.0489281;-111.0937311
END:VEVENT
BEGIN:VEVENT
DTSTART;TZID=America/Phoenix:20220805T120000
DTEND;TZID=America/Phoenix:20220805T160000
DTSTAMP:20260424T043814
CREATED:20220725T165536Z
LAST-MODIFIED:20220725T165737Z
UID:10002569-1659700800-1659715200@mobiletrainingsolutions.net
SUMMARY:CQA Qualifying Party Industrial & Institutional Training - CLASSROOM 8/5
DESCRIPTION:Class discussion and study guide for participation while we look at insect basics\, label reading and some public health information that prepares students to take the Certified Qualified Applicator Industrial & Institutional (General Pest Control) exam.
URL:https://mobiletrainingsolutions.net/event/cqa-qualifying-party-industrial-institutional-ca-training-classroom-8-5/
LOCATION:Mobile Training Solutions\, LLC\, 7009 E. 21st Street\, Tucson\, AZ\, 85710\, United States
ORGANIZER;CN="Linda Harrington":MAILTO:linda@mobiletrainingsolutions.net
GEO:32.2082649;-110.8439314
X-APPLE-STRUCTURED-LOCATION;VALUE=URI;X-ADDRESS=Mobile Training Solutions LLC 7009 E. 21st Street Tucson AZ 85710 United States;X-APPLE-RADIUS=500;X-TITLE=7009 E. 21st Street:geo:-110.8439314,32.2082649
END:VEVENT
END:VCALENDAR