BEGIN:VCALENDAR
VERSION:2.0
PRODID:-//Mobile Training Solutions LLC - ECPv6.15.20//NONSGML v1.0//EN
CALSCALE:GREGORIAN
METHOD:PUBLISH
X-WR-CALNAME:Mobile Training Solutions LLC
X-ORIGINAL-URL:https://mobiletrainingsolutions.net
X-WR-CALDESC:Events for Mobile Training Solutions LLC
REFRESH-INTERVAL;VALUE=DURATION:PT1H
X-Robots-Tag:noindex
X-PUBLISHED-TTL:PT1H
BEGIN:VTIMEZONE
TZID:America/Phoenix
BEGIN:STANDARD
TZOFFSETFROM:-0700
TZOFFSETTO:-0700
TZNAME:MST
DTSTART:20210101T000000
END:STANDARD
END:VTIMEZONE
BEGIN:VEVENT
DTSTART;TZID=America/Phoenix:20221110T080000
DTEND;TZID=America/Phoenix:20221110T120000
DTSTAMP:20260421T232249
CREATED:20221005T234524Z
LAST-MODIFIED:20221005T234524Z
UID:10002638-1668067200-1668081600@mobiletrainingsolutions.net
SUMMARY:Ornamental & Turf/Right of Way CA Training - Tucson 11/10
DESCRIPTION:This class prepares students for the Certified Applicator Ornamental & Turf and Right of Way Exams. A study guide is provided and filled out as we look at various weeds and methods of weed control. We will also look at ornamental insect control.
URL:https://mobiletrainingsolutions.net/event/ornamental-turf-right-of-way-ca-training-tucson-11-10/
LOCATION:Mobile Training Solutions\, LLC\, 7009 E. 21st Street\, Tucson\, AZ\, 85710\, United States
ORGANIZER;CN="Linda Harrington":MAILTO:linda@mobiletrainingsolutions.net
GEO:32.2082649;-110.8439314
X-APPLE-STRUCTURED-LOCATION;VALUE=URI;X-ADDRESS=Mobile Training Solutions LLC 7009 E. 21st Street Tucson AZ 85710 United States;X-APPLE-RADIUS=500;X-TITLE=7009 E. 21st Street:geo:-110.8439314,32.2082649
END:VEVENT
BEGIN:VEVENT
DTSTART;TZID=America/Phoenix:20221110T080000
DTEND;TZID=America/Phoenix:20221110T120000
DTSTAMP:20260421T232249
CREATED:20221026T201828Z
LAST-MODIFIED:20221026T201828Z
UID:10002675-1668067200-1668081600@mobiletrainingsolutions.net
SUMMARY:National Core CA Training - ONLINE 11/10
DESCRIPTION:This ONLINE course requires: email address for Microsoft Teams link\, computer with SPEAKERS & MICROPHONE (for communicating with instructor)\, and providing us with a PHYSICAL MAILING ADDRESS for materials we will send ahead of time. \nIn depth overview of the information covered in the National Core Guide\, concentrating on the information needed to pass the Certified Applicator National Core Applicator exam. Class participants are given a study guide that they fill out during the class and take with them for review.
URL:https://mobiletrainingsolutions.net/event/national-core-ca-training-online-11-10/
LOCATION:Online Training\, AZ\, United States
ORGANIZER;CN="Linda Harrington":MAILTO:linda@mobiletrainingsolutions.net
GEO:34.0489281;-111.0937311
END:VEVENT
BEGIN:VEVENT
DTSTART;TZID=America/Phoenix:20221110T080000
DTEND;TZID=America/Phoenix:20221110T153000
DTSTAMP:20260421T232249
CREATED:20221026T211626Z
LAST-MODIFIED:20221026T211626Z
UID:10002684-1668067200-1668094200@mobiletrainingsolutions.net
SUMMARY:National Core & Industrial & Institutional CA Training - ONLINE 11/10
DESCRIPTION:This ONLINE course requires: email address for MICROSOFT TEAMS link\, computer with SPEAKERS & MICROPHONE (for communicating with instructor)\, and providing us with a PHYSICAL MAILING ADDRESS for materials we will send ahead of time. \nThis is an ALL DAY class covering both National Core and I&I categories. $75 off for taking both categories in the same day. \nCore: In depth overview of the information covered in the National Core Guide\, concentrating on the information needed to pass the Certified Applicator National Core Applicator exam. Class participants are given a study guide that they fill out during the class and take with them for review.\nI&I: Class discussion and study guide for participation while we look at insect basics\, label reading IPM\, and some public health information that prepares students to take the Certified Applicator Industrial & Institutional exam.
URL:https://mobiletrainingsolutions.net/event/national-core-industrial-institutional-ca-training-online-11-10/
LOCATION:Online Training\, AZ\, United States
ORGANIZER;CN="Linda Harrington":MAILTO:linda@mobiletrainingsolutions.net
GEO:34.0489281;-111.0937311
END:VEVENT
BEGIN:VEVENT
DTSTART;TZID=America/Phoenix:20221110T080000
DTEND;TZID=America/Phoenix:20221110T153000
DTSTAMP:20260421T232249
CREATED:20221026T212432Z
LAST-MODIFIED:20221026T212432Z
UID:10002687-1668067200-1668094200@mobiletrainingsolutions.net
SUMMARY:National Core & Ornamental & Turf/Right of Way CA Training ONLINE 11/10
DESCRIPTION:This ONLINE course requires: email address for MICROSOFT TEAMS link\, computer with SPEAKERS & MICROPHONE (for communicating with instructor) and providing us with a PHYSICAL MAILING ADDRESS for materials we will send ahead of time. \nThis is an ALL DAY class covering both National Core and O&T categories. $75 off for taking both categories in the same day. \nCore: In depth overview of the information covered in the National Core Guide\, concentrating on the information needed to pass the Certified Applicator National Core Applicator exam. Class participants are given a study guide that they fill out during the class and take with them for review. \nO&T/R of W: This class prepares students for the Certified Applicator Ornamental & Turf and Right of Way Exams. You can take BOTH weed control license exams after this one class.  A study guide is provided and filled out as we look at various weeds and methods of weed control. We will also look at ornamental insect control.
URL:https://mobiletrainingsolutions.net/event/national-core-ornamental-turf-right-of-way-ca-training-online-11-10/
LOCATION:Online Training\, AZ\, United States
ORGANIZER;CN="Linda Harrington":MAILTO:linda@mobiletrainingsolutions.net
GEO:34.0489281;-111.0937311
END:VEVENT
BEGIN:VEVENT
DTSTART;TZID=America/Phoenix:20221110T120000
DTEND;TZID=America/Phoenix:20221110T153000
DTSTAMP:20260421T232249
CREATED:20221026T202940Z
LAST-MODIFIED:20221026T210217Z
UID:10002678-1668081600-1668094200@mobiletrainingsolutions.net
SUMMARY:Industrial & Institutional CA Training ONLINE 11/10
DESCRIPTION:This ONLINE course requires: email address for MICROSOFT TEAMS link\, computer with SPEAKERS & MICROPHONE (for communicating with instructor)\, and providing us with a PHYSICAL MAILING ADDRESS for materials we will send ahead of time. \nClass discussion and study guide for participation while we look at insect basics\, label reading and some public health information that prepares students to take the Certified Applicator Industrial & Institutional exam.
URL:https://mobiletrainingsolutions.net/event/industrial-institutional-ca-training-online-11-10/
LOCATION:Mobile Training Solutions\, LLC\, 7009 E. 21st Street\, Tucson\, AZ\, 85710\, United States
ORGANIZER;CN="Linda Harrington":MAILTO:linda@mobiletrainingsolutions.net
GEO:32.2082649;-110.8439314
X-APPLE-STRUCTURED-LOCATION;VALUE=URI;X-ADDRESS=Mobile Training Solutions LLC 7009 E. 21st Street Tucson AZ 85710 United States;X-APPLE-RADIUS=500;X-TITLE=7009 E. 21st Street:geo:-110.8439314,32.2082649
END:VEVENT
BEGIN:VEVENT
DTSTART;TZID=America/Phoenix:20221110T120000
DTEND;TZID=America/Phoenix:20221110T153000
DTSTAMP:20260421T232249
CREATED:20221026T205621Z
LAST-MODIFIED:20221026T205621Z
UID:10002681-1668081600-1668094200@mobiletrainingsolutions.net
SUMMARY:Ornamental & Turf/Right of Way CA Training ONLINE 11/10
DESCRIPTION:This ONLINE course requires: email address for MICROSOFT TEAMS link\, computer with SPEAKERS & MICROPHONE (for communicating with instructor)\, and providing us with a PHYSICAL MAILING ADDRESS for materials we will send ahead of time. \nThis class prepares students for the Certified Applicator Ornamental & Turf and Right of Way Exams. You can take BOTH weed control license exams after this one class.  A study guide is provided and filled out as we look at various weeds and methods of weed control. We will also look at ornamental insect control.
URL:https://mobiletrainingsolutions.net/event/ornamental-turf-right-of-way-ca-training-online-11-10/
LOCATION:Online Training\, AZ\, United States
ORGANIZER;CN="Linda Harrington":MAILTO:linda@mobiletrainingsolutions.net
GEO:34.0489281;-111.0937311
END:VEVENT
END:VCALENDAR