BEGIN:VCALENDAR
VERSION:2.0
PRODID:-//Mobile Training Solutions LLC - ECPv6.15.20//NONSGML v1.0//EN
CALSCALE:GREGORIAN
METHOD:PUBLISH
X-ORIGINAL-URL:https://mobiletrainingsolutions.net
X-WR-CALDESC:Events for Mobile Training Solutions LLC
REFRESH-INTERVAL;VALUE=DURATION:PT1H
X-Robots-Tag:noindex
X-PUBLISHED-TTL:PT1H
BEGIN:VTIMEZONE
TZID:America/Phoenix
BEGIN:STANDARD
TZOFFSETFROM:-0700
TZOFFSETTO:-0700
TZNAME:MST
DTSTART:20210101T000000
END:STANDARD
END:VTIMEZONE
BEGIN:VEVENT
DTSTART;TZID=America/Phoenix:20221118T080000
DTEND;TZID=America/Phoenix:20221118T143000
DTSTAMP:20260421T232347
CREATED:20221026T190514Z
LAST-MODIFIED:20221026T190514Z
UID:10002670-1668758400-1668781800@mobiletrainingsolutions.net
SUMMARY:6hr Cornucopia of Continuing Education (CEUs) - Tucson 11/18/22
DESCRIPTION:6 hours of CEUs covering various Structural Pest Control topics. These CEUs are for credit towards your License Renewal with Arizona Department of Agriculture: Pest Management Division\, Golf Course Licenses and other Dept. of Ag licenses (PUG). We provide Lunch and beverages! NEW & UPDATED CLASSES for the 2022-2023 license renewal year! \nPlease arrive early (approx. 15 min) and park in front of our building\, in the lot to the west or in the bowling alley parking lot (please keep service trucks/vehicles to the western side of their parking lot.)
URL:https://mobiletrainingsolutions.net/event/6hr-cornucopia-of-continuing-education-ceus-tucson-11-18-22/
LOCATION:Mobile Training Solutions\, LLC\, 7009 E. 21st Street\, Tucson\, AZ\, 85710\, United States
ORGANIZER;CN="Linda Harrington":MAILTO:linda@mobiletrainingsolutions.net
GEO:32.2082649;-110.8439314
X-APPLE-STRUCTURED-LOCATION;VALUE=URI;X-ADDRESS=Mobile Training Solutions LLC 7009 E. 21st Street Tucson AZ 85710 United States;X-APPLE-RADIUS=500;X-TITLE=7009 E. 21st Street:geo:-110.8439314,32.2082649
END:VEVENT
BEGIN:VEVENT
DTSTART;TZID=America/Phoenix:20221118T080000
DTEND;TZID=America/Phoenix:20221118T143000
DTSTAMP:20260421T232347
CREATED:20221026T191956Z
LAST-MODIFIED:20221026T191956Z
UID:10002671-1668758400-1668781800@mobiletrainingsolutions.net
SUMMARY:6hr Cornucopia of Continuing Education (CEUs) - ONLINE 11/18/22
DESCRIPTION:6 hours of CEUs covering various Structural Pest Control topics. These CEUs are for credit towards your License Renewal with Arizona Department of Agriculture: Pest Management Division\, Golf Course Licenses and other Dept. of Ag licenses (PUG). We provide Lunch and beverages! NEW CLASSES for the 2022-2023 license renewal year! \nThis Continuing Education seminar will be broadcast online via Microsoft Teams. You DO NOT need to have Teams installed to participate. We will email an invite link that you will click and follow to participate in the seminar. We ask that you sign in at least 30min (7:30am) early to be sure there are no connection issues.  \nYou must stay connected to the meeting for its entirety to receive credit for all 6 hours of Continuing Education. We will play an online trivia game called Kahoot! at some points during the day; you need to participate in some fashion to receive credit. Participation can be via the actual game or our Text Chat in the Teams Meetings app. Participation = proof you are actively listening and present for the seminar. Failure to do this can result in no credit hours being awarded to you. No refunds. \nThis class will be a broadcast of a live class we are holding in Tucson. You may ask questions via mic and texting during the presentations. \nYou may contact Jason 520-395-6080 or Linda 520-419-9575 if you have questions or issues regarding signing in.
URL:https://mobiletrainingsolutions.net/event/6hr-cornucopia-of-continuing-education-ceus-online-11-18-22/
LOCATION:Online Training\, AZ\, United States
ORGANIZER;CN="Linda Harrington":MAILTO:linda@mobiletrainingsolutions.net
GEO:34.0489281;-111.0937311
END:VEVENT
END:VCALENDAR