BEGIN:VCALENDAR
VERSION:2.0
PRODID:-//Mobile Training Solutions LLC - ECPv6.15.20//NONSGML v1.0//EN
CALSCALE:GREGORIAN
METHOD:PUBLISH
X-ORIGINAL-URL:https://mobiletrainingsolutions.net
X-WR-CALDESC:Events for Mobile Training Solutions LLC
REFRESH-INTERVAL;VALUE=DURATION:PT1H
X-Robots-Tag:noindex
X-PUBLISHED-TTL:PT1H
BEGIN:VTIMEZONE
TZID:America/Phoenix
BEGIN:STANDARD
TZOFFSETFROM:-0700
TZOFFSETTO:-0700
TZNAME:MST
DTSTART:20210101T000000
END:STANDARD
END:VTIMEZONE
BEGIN:VEVENT
DTSTART;TZID=America/Phoenix:20221124T080000
DTEND;TZID=America/Phoenix:20221124T170000
DTSTAMP:20260421T232350
CREATED:20221102T003441Z
LAST-MODIFIED:20221102T003441Z
UID:10002710-1669276800-1669309200@mobiletrainingsolutions.net
SUMMARY:HAPPY THANKSGIVING
DESCRIPTION:
URL:https://mobiletrainingsolutions.net/event/happy-thanksgiving-2/
LOCATION:AZ
END:VEVENT
END:VCALENDAR