BEGIN:VCALENDAR
VERSION:2.0
PRODID:-//Mobile Training Solutions LLC - ECPv6.15.20//NONSGML v1.0//EN
CALSCALE:GREGORIAN
METHOD:PUBLISH
X-ORIGINAL-URL:https://mobiletrainingsolutions.net
X-WR-CALDESC:Events for Mobile Training Solutions LLC
REFRESH-INTERVAL;VALUE=DURATION:PT1H
X-Robots-Tag:noindex
X-PUBLISHED-TTL:PT1H
BEGIN:VTIMEZONE
TZID:America/Phoenix
BEGIN:STANDARD
TZOFFSETFROM:-0700
TZOFFSETTO:-0700
TZNAME:MST
DTSTART:20220101T000000
END:STANDARD
END:VTIMEZONE
BEGIN:VEVENT
DTSTART;TZID=America/Phoenix:20230124T003000
DTEND;TZID=America/Phoenix:20230124T163000
DTSTAMP:20260421T203031
CREATED:20230109T174005Z
LAST-MODIFIED:20230109T174005Z
UID:10002810-1674520200-1674577800@mobiletrainingsolutions.net
SUMMARY:(QP) Certified Qualified Applicator Training Industrial & Institutional - Tucson 1/24/23
DESCRIPTION:Class discussion and study guide for participation while we look at insect basics\, label reading and some public health information that prepares students to take the Certified Qualified Applicator (QP) Industrial & Institutional (General Pest Control) exam.
URL:https://mobiletrainingsolutions.net/event/qp-certified-qualified-applicator-training-industrial-institutional-tucson-1-24-23/
LOCATION:Mobile Training Solutions\, LLC\, 7009 E. 21st Street\, Tucson\, AZ\, 85710\, United States
ORGANIZER;CN="Jason Stigall":MAILTO:jason@mobiletrainingsolutions.net
GEO:32.2082649;-110.8439314
X-APPLE-STRUCTURED-LOCATION;VALUE=URI;X-ADDRESS=Mobile Training Solutions LLC 7009 E. 21st Street Tucson AZ 85710 United States;X-APPLE-RADIUS=500;X-TITLE=7009 E. 21st Street:geo:-110.8439314,32.2082649
END:VEVENT
BEGIN:VEVENT
DTSTART;TZID=America/Phoenix:20230124T080000
DTEND;TZID=America/Phoenix:20230124T120000
DTSTAMP:20260421T203031
CREATED:20221129T160922Z
LAST-MODIFIED:20230109T174640Z
UID:10002742-1674547200-1674561600@mobiletrainingsolutions.net
SUMMARY:Industrial & Institutional CA Training - Tucson 1/24
DESCRIPTION:Class discussion and study guide for participation while we look at insect basics\, label reading and some public health information that prepares students to take the Certified Applicator Industrial & Institutional exam.
URL:https://mobiletrainingsolutions.net/event/industrial-institutional-ca-training-tucson-1-24-2/
LOCATION:Mobile Training Solutions\, LLC\, 7009 E. 21st Street\, Tucson\, AZ\, 85710\, United States
ORGANIZER;CN="Linda Harrington":MAILTO:linda@mobiletrainingsolutions.net
GEO:32.2082649;-110.8439314
X-APPLE-STRUCTURED-LOCATION;VALUE=URI;X-ADDRESS=Mobile Training Solutions LLC 7009 E. 21st Street Tucson AZ 85710 United States;X-APPLE-RADIUS=500;X-TITLE=7009 E. 21st Street:geo:-110.8439314,32.2082649
END:VEVENT
BEGIN:VEVENT
DTSTART;TZID=America/Phoenix:20230124T080000
DTEND;TZID=America/Phoenix:20230124T120000
DTSTAMP:20260421T203031
CREATED:20230109T173501Z
LAST-MODIFIED:20230109T173501Z
UID:10002808-1674547200-1674561600@mobiletrainingsolutions.net
SUMMARY:(QP) Certified Qualified Applicator Training National Core Training - Tucson 1/24/23
DESCRIPTION:In depth overview of the information covered in the National Core Guide and AZ State Law and Rule\, concentrating on the information needed to pass the Certified Qualified Applicator National Core Applicator exam. Class participants are given a study guide that they fill out during the class and take with them for review.
URL:https://mobiletrainingsolutions.net/event/qp-certified-qualified-applicator-training-national-core-training-tucson-1-24-23/
LOCATION:Mobile Training Solutions\, LLC\, 7009 E. 21st Street\, Tucson\, AZ\, 85710\, United States
ORGANIZER;CN="Jason Stigall":MAILTO:jason@mobiletrainingsolutions.net
GEO:32.2082649;-110.8439314
X-APPLE-STRUCTURED-LOCATION;VALUE=URI;X-ADDRESS=Mobile Training Solutions LLC 7009 E. 21st Street Tucson AZ 85710 United States;X-APPLE-RADIUS=500;X-TITLE=7009 E. 21st Street:geo:-110.8439314,32.2082649
END:VEVENT
BEGIN:VEVENT
DTSTART;TZID=America/Phoenix:20230124T080000
DTEND;TZID=America/Phoenix:20230124T120000
DTSTAMP:20260421T203031
CREATED:20230109T173736Z
LAST-MODIFIED:20230109T173736Z
UID:10002809-1674547200-1674561600@mobiletrainingsolutions.net
SUMMARY:(QP) Certified Qualified Applicator Training National Core Training - Online 1/24/23
DESCRIPTION:In depth overview of the information covered in the National Core Guide and AZ State Law and Rule\, concentrating on the information needed to pass the Certified Qualified Applicator National Core Applicator exam. Class participants are given a study guide that they fill out during the class and take with them for review. \nClass will be taught through Microsoft Teams. You will receive a link to join the class the day prior to class. We must ship out a physical copy of your study guide. Please provide the physical address where you would like the guide sent in the ticketing info below.
URL:https://mobiletrainingsolutions.net/event/qp-certified-qualified-applicator-training-national-core-training-online-1-24-23/
LOCATION:Online Training\, AZ\, United States
ORGANIZER;CN="Jason Stigall":MAILTO:jason@mobiletrainingsolutions.net
GEO:34.0489281;-111.0937311
END:VEVENT
BEGIN:VEVENT
DTSTART;TZID=America/Phoenix:20230124T080000
DTEND;TZID=America/Phoenix:20230124T120000
DTSTAMP:20260421T203031
CREATED:20230109T174344Z
LAST-MODIFIED:20230109T174344Z
UID:10002812-1674547200-1674561600@mobiletrainingsolutions.net
SUMMARY:QP Certified Qualified Applicator Training Turf & Ornamental/Right of Way - Tucson 1/24/23
DESCRIPTION:This class prepares students for the Certified Qualified Applicator Ornamental & Turf Exam. A study guide is provided and filled out as we look at various weeds and methods of weed control. We will also look at ornamental insect control. All equipment calibration math found on the state exam is covered. This course also covers the Right of Way weed control exam content as well. This class prepares you for BOTH weed control license exams in AZ.
URL:https://mobiletrainingsolutions.net/event/qp-certified-qualified-applicator-training-turf-ornamental-right-of-way-tucson-1-24-23/
LOCATION:Mobile Training Solutions\, LLC\, 7009 E. 21st Street\, Tucson\, AZ\, 85710\, United States
ORGANIZER;CN="Jason Stigall":MAILTO:jason@mobiletrainingsolutions.net
GEO:32.2082649;-110.8439314
X-APPLE-STRUCTURED-LOCATION;VALUE=URI;X-ADDRESS=Mobile Training Solutions LLC 7009 E. 21st Street Tucson AZ 85710 United States;X-APPLE-RADIUS=500;X-TITLE=7009 E. 21st Street:geo:-110.8439314,32.2082649
END:VEVENT
BEGIN:VEVENT
DTSTART;TZID=America/Phoenix:20230124T080000
DTEND;TZID=America/Phoenix:20230124T120000
DTSTAMP:20260421T203031
CREATED:20230109T174515Z
LAST-MODIFIED:20230109T174515Z
UID:10002813-1674547200-1674561600@mobiletrainingsolutions.net
SUMMARY:QP Certified Qualified Applicator Training Turf & Ornamental/Right of Way - ONLINE 1/24/23
DESCRIPTION:This class prepares students for the Certified Qualified Applicator Ornamental & Turf Exam. A study guide is provided and filled out as we look at various weeds and methods of weed control. We will also look at ornamental insect control. All equipment calibration math found on the state exam is covered. This course also covers the Right of Way weed control exam content as well. This class prepares you for BOTH weed control license exams in AZ. \nNO VIDEOS\, ALL LIVE TRAINING \nClass will be taught through Microsoft Teams. You will receive a link to join the class the day prior to class. We must ship out a physical copy of your study guide. Please provide the physical address where you would like the guide sent in the ticketing info below.
URL:https://mobiletrainingsolutions.net/event/qp-certified-qualified-applicator-training-turf-ornamental-right-of-way-online-1-24-23/
LOCATION:Online Training\, AZ\, United States
ORGANIZER;CN="Jason Stigall":MAILTO:jason@mobiletrainingsolutions.net
GEO:34.0489281;-111.0937311
END:VEVENT
BEGIN:VEVENT
DTSTART;TZID=America/Phoenix:20230124T123000
DTEND;TZID=America/Phoenix:20230124T163000
DTSTAMP:20260421T203031
CREATED:20230109T174129Z
LAST-MODIFIED:20230109T174129Z
UID:10002811-1674563400-1674577800@mobiletrainingsolutions.net
SUMMARY:(QP) Certified Qualified Applicator Training Industrial & Institutional - ONLINE 1/24/23
DESCRIPTION:Class discussion and study guide for participation while we look at insect basics\, label reading and some public health information that prepares students to take the Certified Qualified Applicator (QP) Industrial & Institutional (General Pest Control) exam. \nClass will be taught through Microsoft Teams. You will receive a link to join the class the day prior to class. We must ship out a physical copy of your study guide. Please provide the physical address where you would like the guide sent in the ticketing info below.
URL:https://mobiletrainingsolutions.net/event/qp-certified-qualified-applicator-training-industrial-institutional-online-1-24-23/
LOCATION:Online Training\, AZ\, United States
ORGANIZER;CN="Jason Stigall":MAILTO:jason@mobiletrainingsolutions.net
GEO:34.0489281;-111.0937311
END:VEVENT
END:VCALENDAR