BEGIN:VCALENDAR
VERSION:2.0
PRODID:-//Mobile Training Solutions LLC - ECPv6.15.20//NONSGML v1.0//EN
CALSCALE:GREGORIAN
METHOD:PUBLISH
X-WR-CALNAME:Mobile Training Solutions LLC
X-ORIGINAL-URL:https://mobiletrainingsolutions.net
X-WR-CALDESC:Events for Mobile Training Solutions LLC
REFRESH-INTERVAL;VALUE=DURATION:PT1H
X-Robots-Tag:noindex
X-PUBLISHED-TTL:PT1H
BEGIN:VTIMEZONE
TZID:America/Phoenix
BEGIN:STANDARD
TZOFFSETFROM:-0700
TZOFFSETTO:-0700
TZNAME:MST
DTSTART:20220101T000000
END:STANDARD
END:VTIMEZONE
BEGIN:VEVENT
DTSTART;TZID=America/Phoenix:20230207T080000
DTEND;TZID=America/Phoenix:20230207T120000
DTSTAMP:20260421T191009
CREATED:20221129T220225Z
LAST-MODIFIED:20230109T190007Z
UID:10002763-1675756800-1675771200@mobiletrainingsolutions.net
SUMMARY:Industrial & Institutional CA Training - Tucson 2/7
DESCRIPTION:Class discussion and study guide for participation while we look at insect basics\, label reading and some public health information that prepares students to take the Certified Applicator Industrial & Institutional exam.
URL:https://mobiletrainingsolutions.net/event/industrial-institutional-ca-training-tucson-2-7-2/
LOCATION:Mobile Training Solutions\, LLC\, 7009 E. 21st Street\, Tucson\, AZ\, 85710\, United States
ORGANIZER;CN="Linda Harrington":MAILTO:linda@mobiletrainingsolutions.net
GEO:32.2082649;-110.8439314
X-APPLE-STRUCTURED-LOCATION;VALUE=URI;X-ADDRESS=Mobile Training Solutions LLC 7009 E. 21st Street Tucson AZ 85710 United States;X-APPLE-RADIUS=500;X-TITLE=7009 E. 21st Street:geo:-110.8439314,32.2082649
END:VEVENT
BEGIN:VEVENT
DTSTART;TZID=America/Phoenix:20230207T080000
DTEND;TZID=America/Phoenix:20230207T143000
DTSTAMP:20260421T191009
CREATED:20230109T185857Z
LAST-MODIFIED:20230111T213422Z
UID:10002814-1675756800-1675780200@mobiletrainingsolutions.net
SUMMARY:Safford 6 Hour CEU - 2/7/23
DESCRIPTION:Join us for 6 hours of CEUs covering topics such as: Killer Bees\, AZ weed ID\, and more. This agenda is tentative and may change on the day based on attendee interest. Lunch will be included.
URL:https://mobiletrainingsolutions.net/event/safford-6-hour-ceu-2-7-23/
LOCATION:City of Safford Library\, 808 7th Ave Safford\, Safford\, United States
ORGANIZER;CN="Jason Stigall":MAILTO:jason@mobiletrainingsolutions.net
END:VEVENT
END:VCALENDAR