BEGIN:VCALENDAR
VERSION:2.0
PRODID:-//Mobile Training Solutions LLC - ECPv6.15.20//NONSGML v1.0//EN
CALSCALE:GREGORIAN
METHOD:PUBLISH
X-ORIGINAL-URL:https://mobiletrainingsolutions.net
X-WR-CALDESC:Events for Mobile Training Solutions LLC
REFRESH-INTERVAL;VALUE=DURATION:PT1H
X-Robots-Tag:noindex
X-PUBLISHED-TTL:PT1H
BEGIN:VTIMEZONE
TZID:America/Phoenix
BEGIN:STANDARD
TZOFFSETFROM:-0700
TZOFFSETTO:-0700
TZNAME:MST
DTSTART:20220101T000000
END:STANDARD
END:VTIMEZONE
BEGIN:VEVENT
DTSTART;TZID=America/Phoenix:20230323T080000
DTEND;TZID=America/Phoenix:20230323T120000
DTSTAMP:20260421T173911
CREATED:20230112T153459Z
LAST-MODIFIED:20230307T212450Z
UID:10002823-1679558400-1679572800@mobiletrainingsolutions.net
SUMMARY:Ornamental & Turf/Right of Way CA Training - Tucson 3/23
DESCRIPTION:This class prepares students for the Certified Applicator Ornamental & Turf and Right of Way Exams. A study guide is provided and filled out as we look at various weeds and methods of weed control. We will also look at ornamental insect control.
URL:https://mobiletrainingsolutions.net/event/ornamental-turf-right-of-way-ca-training-tucson-3-23/
LOCATION:Mobile Training Solutions\, LLC\, 7009 E. 21st Street\, Tucson\, AZ\, 85710\, United States
ORGANIZER;CN="Linda Harrington":MAILTO:linda@mobiletrainingsolutions.net
GEO:32.2082649;-110.8439314
X-APPLE-STRUCTURED-LOCATION;VALUE=URI;X-ADDRESS=Mobile Training Solutions LLC 7009 E. 21st Street Tucson AZ 85710 United States;X-APPLE-RADIUS=500;X-TITLE=7009 E. 21st Street:geo:-110.8439314,32.2082649
END:VEVENT
BEGIN:VEVENT
DTSTART;TZID=America/Phoenix:20230323T080000
DTEND;TZID=America/Phoenix:20230323T120000
DTSTAMP:20260421T173911
CREATED:20230307T210829Z
LAST-MODIFIED:20230307T210829Z
UID:10002904-1679558400-1679572800@mobiletrainingsolutions.net
SUMMARY:(QP) Certified Qualified Applicator Training Wood Destroying Organisms - Tucson 3/23/23
DESCRIPTION:An overview of Wood Destroying Organisms\, their differences\, how we would inspect and treat for them. In depth look at graphing and the Wood Destroying Insect Inspection Report. Student is given a study guide for review and is prepared to take the Certified Qualified Applicator Wood Destroying Organisms exam. \nNO VIDEOS\, ALL LIVE TRAINING
URL:https://mobiletrainingsolutions.net/event/qp-certified-qualified-applicator-training-wood-destroying-organisms-tucson-3-23-23/
LOCATION:Mobile Training Solutions\, LLC\, 7009 E. 21st Street\, Tucson\, AZ\, 85710\, United States
ORGANIZER;CN="Jason Stigall":MAILTO:jason@mobiletrainingsolutions.net
GEO:32.2082649;-110.8439314
X-APPLE-STRUCTURED-LOCATION;VALUE=URI;X-ADDRESS=Mobile Training Solutions LLC 7009 E. 21st Street Tucson AZ 85710 United States;X-APPLE-RADIUS=500;X-TITLE=7009 E. 21st Street:geo:-110.8439314,32.2082649
END:VEVENT
BEGIN:VEVENT
DTSTART;TZID=America/Phoenix:20230323T080000
DTEND;TZID=America/Phoenix:20230323T120000
DTSTAMP:20260421T173911
CREATED:20230307T211029Z
LAST-MODIFIED:20230307T211029Z
UID:10002905-1679558400-1679572800@mobiletrainingsolutions.net
SUMMARY:(QP) Certified Qualified Applicator Training Wood Destroying Organisms - ONLINE 3/23/23
DESCRIPTION:An overview of Wood Destroying Organisms\, their differences\, how we would inspect and treat for them. In depth look at graphing and the Wood Destroying Insect Inspection Report. Student is given a study guide for review and is prepared to take the Certified Qualified Applicator Wood Destroying Organisms exam. \nNO VIDEOS\, ALL LIVE TRAINING \nClass will be taught through Microsoft Teams. You will receive a link to join the class the day prior to class. We must ship out a physical copy of your study guide. Please provide the physical address where you would like the guide sent in the ticketing info below.
URL:https://mobiletrainingsolutions.net/event/qp-certified-qualified-applicator-training-wood-destroying-organisms-online-3-23-23/
LOCATION:Online Training\, AZ\, United States
ORGANIZER;CN="Jason Stigall":MAILTO:jason@mobiletrainingsolutions.net
GEO:34.0489281;-111.0937311
END:VEVENT
BEGIN:VEVENT
DTSTART;TZID=America/Phoenix:20230323T080000
DTEND;TZID=America/Phoenix:20230323T120000
DTSTAMP:20260421T173911
CREATED:20230307T211233Z
LAST-MODIFIED:20230307T211233Z
UID:10002906-1679558400-1679572800@mobiletrainingsolutions.net
SUMMARY:(QP) Certified Qualified Applicator Training National Core Training - Tucson 3/23/23
DESCRIPTION:In depth overview of the information covered in the National Core Guide and AZ State Law and Rule\, concentrating on the information needed to pass the Certified Qualified Applicator National Core Applicator exam. Class participants are given a study guide that they fill out during the class and take with them for review.
URL:https://mobiletrainingsolutions.net/event/qp-certified-qualified-applicator-training-national-core-training-tucson-3-23-23/
LOCATION:Mobile Training Solutions\, LLC\, 7009 E. 21st Street\, Tucson\, AZ\, 85710\, United States
ORGANIZER;CN="Jason Stigall":MAILTO:jason@mobiletrainingsolutions.net
GEO:32.2082649;-110.8439314
X-APPLE-STRUCTURED-LOCATION;VALUE=URI;X-ADDRESS=Mobile Training Solutions LLC 7009 E. 21st Street Tucson AZ 85710 United States;X-APPLE-RADIUS=500;X-TITLE=7009 E. 21st Street:geo:-110.8439314,32.2082649
END:VEVENT
BEGIN:VEVENT
DTSTART;TZID=America/Phoenix:20230323T080000
DTEND;TZID=America/Phoenix:20230323T120000
DTSTAMP:20260421T173911
CREATED:20230307T211445Z
LAST-MODIFIED:20230307T211445Z
UID:10002907-1679558400-1679572800@mobiletrainingsolutions.net
SUMMARY:(QP) Certified Qualified Applicator Training National Core Training - Online 3/23/23
DESCRIPTION:In depth overview of the information covered in the National Core Guide and AZ State Law and Rule\, concentrating on the information needed to pass the Certified Qualified Applicator National Core Applicator exam. Class participants are given a study guide that they fill out during the class and take with them for review. \nClass will be taught through Microsoft Teams. You will receive a link to join the class the day prior to class. We must ship out a physical copy of your study guide. Please provide the physical address where you would like the guide sent in the ticketing info below.
URL:https://mobiletrainingsolutions.net/event/qp-certified-qualified-applicator-training-national-core-training-online-3-23-23/
LOCATION:Online Training\, AZ\, United States
ORGANIZER;CN="Jason Stigall":MAILTO:jason@mobiletrainingsolutions.net
GEO:34.0489281;-111.0937311
END:VEVENT
BEGIN:VEVENT
DTSTART;TZID=America/Phoenix:20230323T123000
DTEND;TZID=America/Phoenix:20230323T163000
DTSTAMP:20260421T173911
CREATED:20230307T211715Z
LAST-MODIFIED:20230307T211715Z
UID:10002908-1679574600-1679589000@mobiletrainingsolutions.net
SUMMARY:(QP) Certified Qualified Applicator Training Industrial & Institutional - TUCSON 3/23/23
DESCRIPTION:Class discussion and study guide for participation while we look at insect basics\, label reading and some public health information that prepares students to take the Certified Qualified Applicator (QP) Industrial & Institutional (General Pest Control) exam.
URL:https://mobiletrainingsolutions.net/event/qp-certified-qualified-applicator-training-industrial-institutional-tucson-3-23-23/
LOCATION:Mobile Training Solutions\, LLC\, 7009 E. 21st Street\, Tucson\, AZ\, 85710\, United States
ORGANIZER;CN="Jason Stigall":MAILTO:jason@mobiletrainingsolutions.net
GEO:32.2082649;-110.8439314
X-APPLE-STRUCTURED-LOCATION;VALUE=URI;X-ADDRESS=Mobile Training Solutions LLC 7009 E. 21st Street Tucson AZ 85710 United States;X-APPLE-RADIUS=500;X-TITLE=7009 E. 21st Street:geo:-110.8439314,32.2082649
END:VEVENT
BEGIN:VEVENT
DTSTART;TZID=America/Phoenix:20230323T123000
DTEND;TZID=America/Phoenix:20230323T163000
DTSTAMP:20260421T173911
CREATED:20230307T212103Z
LAST-MODIFIED:20230307T212103Z
UID:10002910-1679574600-1679589000@mobiletrainingsolutions.net
SUMMARY:QP Certified Qualified Applicator Training Turf & Ornamental/Right of Way - Tucson 3/23/23
DESCRIPTION:This class prepares students for the Certified Qualified Applicator Ornamental & Turf Exam. A study guide is provided and filled out as we look at various weeds and methods of weed control. We will also look at ornamental insect control. All equipment calibration math found on the state exam is covered. This course also covers the Right of Way weed control exam content as well. This class prepares you for BOTH weed control license exams in AZ.
URL:https://mobiletrainingsolutions.net/event/qp-certified-qualified-applicator-training-turf-ornamental-right-of-way-tucson-3-23-23/
LOCATION:Mobile Training Solutions\, LLC\, 7009 E. 21st Street\, Tucson\, AZ\, 85710\, United States
ORGANIZER;CN="Jason Stigall":MAILTO:jason@mobiletrainingsolutions.net
GEO:32.2082649;-110.8439314
X-APPLE-STRUCTURED-LOCATION;VALUE=URI;X-ADDRESS=Mobile Training Solutions LLC 7009 E. 21st Street Tucson AZ 85710 United States;X-APPLE-RADIUS=500;X-TITLE=7009 E. 21st Street:geo:-110.8439314,32.2082649
END:VEVENT
BEGIN:VEVENT
DTSTART;TZID=America/Phoenix:20230323T123000
DTEND;TZID=America/Phoenix:20230323T163000
DTSTAMP:20260421T173911
CREATED:20230307T212230Z
LAST-MODIFIED:20230307T212230Z
UID:10002911-1679574600-1679589000@mobiletrainingsolutions.net
SUMMARY:QP Certified Qualified Applicator Training Turf & Ornamental/Right of Way - ONLINE 3/23/23
DESCRIPTION:This class prepares students for the Certified Qualified Applicator Ornamental & Turf Exam. A study guide is provided and filled out as we look at various weeds and methods of weed control. We will also look at ornamental insect control. All equipment calibration math found on the state exam is covered. This course also covers the Right of Way weed control exam content as well. This class prepares you for BOTH weed control license exams in AZ. \nNO VIDEOS\, ALL LIVE TRAINING \nClass will be taught through Microsoft Teams. You will receive a link to join the class the day prior to class. You will also receive a locked PDF of our study guide for the class. You must print a copy of the study guide prior to class.
URL:https://mobiletrainingsolutions.net/event/qp-certified-qualified-applicator-training-turf-ornamental-right-of-way-online-3-23-23/
LOCATION:Online Training\, AZ\, United States
ORGANIZER;CN="Jason Stigall":MAILTO:jason@mobiletrainingsolutions.net
GEO:34.0489281;-111.0937311
END:VEVENT
END:VCALENDAR