BEGIN:VCALENDAR
VERSION:2.0
PRODID:-//Mobile Training Solutions LLC - ECPv6.15.20//NONSGML v1.0//EN
CALSCALE:GREGORIAN
METHOD:PUBLISH
X-WR-CALNAME:Mobile Training Solutions LLC
X-ORIGINAL-URL:https://mobiletrainingsolutions.net
X-WR-CALDESC:Events for Mobile Training Solutions LLC
REFRESH-INTERVAL;VALUE=DURATION:PT1H
X-Robots-Tag:noindex
X-PUBLISHED-TTL:PT1H
BEGIN:VTIMEZONE
TZID:America/Phoenix
BEGIN:STANDARD
TZOFFSETFROM:-0700
TZOFFSETTO:-0700
TZNAME:MST
DTSTART:20220101T000000
END:STANDARD
END:VTIMEZONE
BEGIN:VEVENT
DTSTART;TZID=America/Phoenix:20230411T080000
DTEND;TZID=America/Phoenix:20230411T110000
DTSTAMP:20260421T143616
CREATED:20230330T193641Z
LAST-MODIFIED:20230330T193641Z
UID:10002941-1681200000-1681210800@mobiletrainingsolutions.net
SUMMARY:Aquatic CA Training - Tucson 4/11
DESCRIPTION:This class provides exam preparation information for the Arizona Department of Agriculture: Pest Managment Division category 5\, Aquatic License.  Information covered during class: identification of aquatic pests (plant & animal)\, Integrated pest management in aquatic settings\, drift\, runoff and leaching control\, chemical applications and label reading practice.
URL:https://mobiletrainingsolutions.net/event/aquatic-ca-training-tucson-4-11/
LOCATION:Mobile Training Solutions\, LLC\, 7009 E. 21st Street\, Tucson\, AZ\, 85710\, United States
ORGANIZER;CN="Jason Stigall":MAILTO:jason@mobiletrainingsolutions.net
GEO:32.2082649;-110.8439314
X-APPLE-STRUCTURED-LOCATION;VALUE=URI;X-ADDRESS=Mobile Training Solutions LLC 7009 E. 21st Street Tucson AZ 85710 United States;X-APPLE-RADIUS=500;X-TITLE=7009 E. 21st Street:geo:-110.8439314,32.2082649
END:VEVENT
BEGIN:VEVENT
DTSTART;TZID=America/Phoenix:20230411T080000
DTEND;TZID=America/Phoenix:20230411T120000
DTSTAMP:20260421T143616
CREATED:20230217T232821Z
LAST-MODIFIED:20230217T232821Z
UID:10002889-1681200000-1681214400@mobiletrainingsolutions.net
SUMMARY:Industrial & Institutional CA Training - Tucson 4/11
DESCRIPTION:Class discussion and study guide for participation while we look at insect basics\, label reading and some public health information that prepares students to take the Certified Applicator Industrial & Institutional exam.
URL:https://mobiletrainingsolutions.net/event/industrial-institutional-ca-training-tucson-4-11-2/
LOCATION:Mobile Training Solutions\, LLC\, 7009 E. 21st Street\, Tucson\, AZ\, 85710\, United States
ORGANIZER;CN="Linda Harrington":MAILTO:linda@mobiletrainingsolutions.net
GEO:32.2082649;-110.8439314
X-APPLE-STRUCTURED-LOCATION;VALUE=URI;X-ADDRESS=Mobile Training Solutions LLC 7009 E. 21st Street Tucson AZ 85710 United States;X-APPLE-RADIUS=500;X-TITLE=7009 E. 21st Street:geo:-110.8439314,32.2082649
END:VEVENT
END:VCALENDAR