BEGIN:VCALENDAR
VERSION:2.0
PRODID:-//Mobile Training Solutions LLC - ECPv6.15.20//NONSGML v1.0//EN
CALSCALE:GREGORIAN
METHOD:PUBLISH
X-ORIGINAL-URL:https://mobiletrainingsolutions.net
X-WR-CALDESC:Events for Mobile Training Solutions LLC
REFRESH-INTERVAL;VALUE=DURATION:PT1H
X-Robots-Tag:noindex
X-PUBLISHED-TTL:PT1H
BEGIN:VTIMEZONE
TZID:America/Phoenix
BEGIN:STANDARD
TZOFFSETFROM:-0700
TZOFFSETTO:-0700
TZNAME:MST
DTSTART:20220101T000000
END:STANDARD
END:VTIMEZONE
BEGIN:VEVENT
DTSTART;TZID=America/Phoenix:20230418T080000
DTEND;TZID=America/Phoenix:20230418T120000
DTSTAMP:20260421T162305
CREATED:20230217T233102Z
LAST-MODIFIED:20230327T180010Z
UID:10002890-1681804800-1681819200@mobiletrainingsolutions.net
SUMMARY:Industrial & Institutional CA Training - Tucson 4/18
DESCRIPTION:Class discussion and study guide for participation while we look at insect basics\, label reading and some public health information that prepares students to take the Certified Applicator Industrial & Institutional exam.
URL:https://mobiletrainingsolutions.net/event/industrial-institutional-ca-training-tucson-4-18-2/
LOCATION:Mobile Training Solutions\, LLC\, 7009 E. 21st Street\, Tucson\, AZ\, 85710\, United States
ORGANIZER;CN="Linda Harrington":MAILTO:linda@mobiletrainingsolutions.net
GEO:32.2082649;-110.8439314
X-APPLE-STRUCTURED-LOCATION;VALUE=URI;X-ADDRESS=Mobile Training Solutions LLC 7009 E. 21st Street Tucson AZ 85710 United States;X-APPLE-RADIUS=500;X-TITLE=7009 E. 21st Street:geo:-110.8439314,32.2082649
END:VEVENT
BEGIN:VEVENT
DTSTART;TZID=America/Phoenix:20230418T080000
DTEND;TZID=America/Phoenix:20230418T120000
DTSTAMP:20260421T162305
CREATED:20230327T174344Z
LAST-MODIFIED:20230327T174344Z
UID:10002926-1681804800-1681819200@mobiletrainingsolutions.net
SUMMARY:(QP) Certified Qualified Applicator Training Wood Destroying Organisms - Tucson 4/18/23
DESCRIPTION:An overview of Wood Destroying Organisms\, their differences\, how we would inspect and treat for them. In depth look at graphing and the Wood Destroying Insect Inspection Report. Student is given a study guide for review and is prepared to take the Certified Qualified Applicator Wood Destroying Organisms exam. \nNO VIDEOS\, ALL LIVE TRAINING
URL:https://mobiletrainingsolutions.net/event/qp-certified-qualified-applicator-training-wood-destroying-organisms-tucson-4-18-23/
LOCATION:Mobile Training Solutions\, LLC\, 7009 E. 21st Street\, Tucson\, AZ\, 85710\, United States
ORGANIZER;CN="Jason Stigall":MAILTO:jason@mobiletrainingsolutions.net
GEO:32.2082649;-110.8439314
X-APPLE-STRUCTURED-LOCATION;VALUE=URI;X-ADDRESS=Mobile Training Solutions LLC 7009 E. 21st Street Tucson AZ 85710 United States;X-APPLE-RADIUS=500;X-TITLE=7009 E. 21st Street:geo:-110.8439314,32.2082649
END:VEVENT
BEGIN:VEVENT
DTSTART;TZID=America/Phoenix:20230418T080000
DTEND;TZID=America/Phoenix:20230418T120000
DTSTAMP:20260421T162305
CREATED:20230327T174640Z
LAST-MODIFIED:20230327T174640Z
UID:10002927-1681804800-1681819200@mobiletrainingsolutions.net
SUMMARY:(QP) Certified Qualified Applicator Training Wood Destroying Organisms - ONLINE 4/18/23
DESCRIPTION:An overview of Wood Destroying Organisms\, their differences\, how we would inspect and treat for them. In depth look at graphing and the Wood Destroying Insect Inspection Report. Student is given a study guide for review and is prepared to take the Certified Qualified Applicator Wood Destroying Organisms exam. \nNO VIDEOS\, ALL LIVE TRAINING \nClass will be taught through Microsoft Teams. You will receive a link to join the class the day prior to class. You will also receive a PDF document of our study guide that will need to be printed prior to the class.
URL:https://mobiletrainingsolutions.net/event/qp-certified-qualified-applicator-training-wood-destroying-organisms-online-4-18-23/
LOCATION:Online Training\, AZ\, United States
ORGANIZER;CN="Jason Stigall":MAILTO:jason@mobiletrainingsolutions.net
GEO:34.0489281;-111.0937311
END:VEVENT
BEGIN:VEVENT
DTSTART;TZID=America/Phoenix:20230418T080000
DTEND;TZID=America/Phoenix:20230418T120000
DTSTAMP:20260421T162305
CREATED:20230327T174822Z
LAST-MODIFIED:20230327T174822Z
UID:10002928-1681804800-1681819200@mobiletrainingsolutions.net
SUMMARY:(QP) Certified Qualified Applicator Training National Core Training - Tucson 4/18/23
DESCRIPTION:In depth overview of the information covered in the National Core Guide and AZ State Law and Rule\, concentrating on the information needed to pass the Certified Qualified Applicator National Core Applicator exam. Class participants are given a study guide that they fill out during the class and take with them for review.
URL:https://mobiletrainingsolutions.net/event/qp-certified-qualified-applicator-training-national-core-training-tucson-4-18-23/
LOCATION:Mobile Training Solutions\, LLC\, 7009 E. 21st Street\, Tucson\, AZ\, 85710\, United States
ORGANIZER;CN="Jason Stigall":MAILTO:jason@mobiletrainingsolutions.net
GEO:32.2082649;-110.8439314
X-APPLE-STRUCTURED-LOCATION;VALUE=URI;X-ADDRESS=Mobile Training Solutions LLC 7009 E. 21st Street Tucson AZ 85710 United States;X-APPLE-RADIUS=500;X-TITLE=7009 E. 21st Street:geo:-110.8439314,32.2082649
END:VEVENT
BEGIN:VEVENT
DTSTART;TZID=America/Phoenix:20230418T080000
DTEND;TZID=America/Phoenix:20230418T120000
DTSTAMP:20260421T162305
CREATED:20230327T175038Z
LAST-MODIFIED:20230327T175038Z
UID:10002929-1681804800-1681819200@mobiletrainingsolutions.net
SUMMARY:(QP) Certified Qualified Applicator Training National Core Training - ONLINE 4/18/23
DESCRIPTION:In depth overview of the information covered in the National Core Guide and AZ State Law and Rule\, concentrating on the information needed to pass the Certified Qualified Applicator National Core Applicator exam. Class participants are given a study guide that they fill out during the class and take with them for review. \nClass will be taught through Microsoft Teams. You will receive a link to join the class the day prior to class. We will email you a PDF document of the study guide you will be filling out throughout the class. This will need to be printed out prior to class.
URL:https://mobiletrainingsolutions.net/event/qp-certified-qualified-applicator-training-national-core-training-online-4-18-23/
LOCATION:Online Training\, AZ\, United States
ORGANIZER;CN="Jason Stigall":MAILTO:jason@mobiletrainingsolutions.net
GEO:34.0489281;-111.0937311
END:VEVENT
BEGIN:VEVENT
DTSTART;TZID=America/Phoenix:20230418T123000
DTEND;TZID=America/Phoenix:20230418T163000
DTSTAMP:20260421T162305
CREATED:20230327T175214Z
LAST-MODIFIED:20230327T175214Z
UID:10002930-1681821000-1681835400@mobiletrainingsolutions.net
SUMMARY:(QP) Certified Qualified Applicator Training Industrial & Institutional - TUCSON 4/18/23
DESCRIPTION:Class discussion and study guide for participation while we look at insect basics\, label reading and some public health information that prepares students to take the Certified Qualified Applicator (QP) Industrial & Institutional (General Pest Control) exam.
URL:https://mobiletrainingsolutions.net/event/qp-certified-qualified-applicator-training-industrial-institutional-tucson-4-18-23/
LOCATION:Mobile Training Solutions\, LLC\, 7009 E. 21st Street\, Tucson\, AZ\, 85710\, United States
ORGANIZER;CN="Jason Stigall":MAILTO:jason@mobiletrainingsolutions.net
GEO:32.2082649;-110.8439314
X-APPLE-STRUCTURED-LOCATION;VALUE=URI;X-ADDRESS=Mobile Training Solutions LLC 7009 E. 21st Street Tucson AZ 85710 United States;X-APPLE-RADIUS=500;X-TITLE=7009 E. 21st Street:geo:-110.8439314,32.2082649
END:VEVENT
BEGIN:VEVENT
DTSTART;TZID=America/Phoenix:20230418T123000
DTEND;TZID=America/Phoenix:20230418T163000
DTSTAMP:20260421T162305
CREATED:20230327T175340Z
LAST-MODIFIED:20230327T175340Z
UID:10002931-1681821000-1681835400@mobiletrainingsolutions.net
SUMMARY:(QP) Certified Qualified Applicator Training Industrial & Institutional - ONLINE 4/18/23
DESCRIPTION:Class discussion and study guide for participation while we look at insect basics\, label reading and some public health information that prepares students to take the Certified Qualified Applicator (QP) Industrial & Institutional (General Pest Control) exam. \nClass will be taught through Microsoft Teams. You will receive a link to join the class the day prior to class. You will also receive a PDF of our study guide the day prior to the class. You will need to print the study guide prior to the start of class.
URL:https://mobiletrainingsolutions.net/event/qp-certified-qualified-applicator-training-industrial-institutional-online-4-18-23/
LOCATION:Online Training\, AZ\, United States
ORGANIZER;CN="Jason Stigall":MAILTO:jason@mobiletrainingsolutions.net
GEO:34.0489281;-111.0937311
END:VEVENT
BEGIN:VEVENT
DTSTART;TZID=America/Phoenix:20230418T123000
DTEND;TZID=America/Phoenix:20230418T163000
DTSTAMP:20260421T162305
CREATED:20230327T175631Z
LAST-MODIFIED:20230327T175631Z
UID:10002932-1681821000-1681835400@mobiletrainingsolutions.net
SUMMARY:QP Certified Qualified Applicator Training Turf & Ornamental/Right of Way - TUCSON 4/18/23
DESCRIPTION:This class prepares students for the Certified Qualified Applicator Ornamental & Turf Exam. A study guide is provided and filled out as we look at various weeds and methods of weed control. We will also look at ornamental insect control. All equipment calibration math found on the state exam is covered. This course also covers the Right of Way weed control exam content as well. This class prepares you for BOTH weed control license exams in AZ.
URL:https://mobiletrainingsolutions.net/event/qp-certified-qualified-applicator-training-turf-ornamental-right-of-way-tucson-4-18-23/
LOCATION:Mobile Training Solutions\, LLC\, 7009 E. 21st Street\, Tucson\, AZ\, 85710\, United States
ORGANIZER;CN="Jason Stigall":MAILTO:jason@mobiletrainingsolutions.net
GEO:32.2082649;-110.8439314
X-APPLE-STRUCTURED-LOCATION;VALUE=URI;X-ADDRESS=Mobile Training Solutions LLC 7009 E. 21st Street Tucson AZ 85710 United States;X-APPLE-RADIUS=500;X-TITLE=7009 E. 21st Street:geo:-110.8439314,32.2082649
END:VEVENT
BEGIN:VEVENT
DTSTART;TZID=America/Phoenix:20230418T123000
DTEND;TZID=America/Phoenix:20230418T163000
DTSTAMP:20260421T162305
CREATED:20230327T175757Z
LAST-MODIFIED:20230327T175757Z
UID:10002933-1681821000-1681835400@mobiletrainingsolutions.net
SUMMARY:QP Certified Qualified Applicator Training Turf & Ornamental/Right of Way - ONLINE 4/18/23
DESCRIPTION:This class prepares students for the Certified Qualified Applicator Ornamental & Turf Exam. A study guide is provided and filled out as we look at various weeds and methods of weed control. We will also look at ornamental insect control. All equipment calibration math found on the state exam is covered. This course also covers the Right of Way weed control exam content as well. This class prepares you for BOTH weed control license exams in AZ. \nNO VIDEOS\, ALL LIVE TRAINING \nClass will be taught through Microsoft Teams. You will receive a link to join the class the day prior to class. You will also receive a locked PDF of our study guide for the class. You must print a copy of the study guide prior to class.
URL:https://mobiletrainingsolutions.net/event/qp-certified-qualified-applicator-training-turf-ornamental-right-of-way-online-4-18-23/
LOCATION:Online Training\, AZ\, United States
ORGANIZER;CN="Jason Stigall":MAILTO:jason@mobiletrainingsolutions.net
GEO:34.0489281;-111.0937311
END:VEVENT
END:VCALENDAR