BEGIN:VCALENDAR
VERSION:2.0
PRODID:-//Mobile Training Solutions LLC - ECPv6.15.20//NONSGML v1.0//EN
CALSCALE:GREGORIAN
METHOD:PUBLISH
X-WR-CALNAME:Mobile Training Solutions LLC
X-ORIGINAL-URL:https://mobiletrainingsolutions.net
X-WR-CALDESC:Events for Mobile Training Solutions LLC
REFRESH-INTERVAL;VALUE=DURATION:PT1H
X-Robots-Tag:noindex
X-PUBLISHED-TTL:PT1H
BEGIN:VTIMEZONE
TZID:America/Phoenix
BEGIN:STANDARD
TZOFFSETFROM:-0700
TZOFFSETTO:-0700
TZNAME:MST
DTSTART:20220101T000000
END:STANDARD
END:VTIMEZONE
BEGIN:VEVENT
DTSTART;TZID=America/Phoenix:20230511T080000
DTEND;TZID=America/Phoenix:20230511T113000
DTSTAMP:20260421T130018
CREATED:20230425T000938Z
LAST-MODIFIED:20230425T000938Z
UID:10002988-1683792000-1683804600@mobiletrainingsolutions.net
SUMMARY:National Core CA Training - ONLINE 5/11
DESCRIPTION:This ONLINE course requires: email address for Microsoft Teams link\, computer with SPEAKERS & MICROPHONE (for communicating with instructor)\, and providing us with a PHYSICAL MAILING ADDRESS for materials we will send ahead of time. \nIn depth overview of the information covered in the National Core Guide\, concentrating on the information needed to pass the Certified Applicator National Core Applicator exam. Class participants are given a study guide that they fill out during the class and take with them for review.
URL:https://mobiletrainingsolutions.net/event/national-core-ca-training-online-5-11/
LOCATION:Online Training\, AZ\, United States
ORGANIZER;CN="Linda Harrington":MAILTO:linda@mobiletrainingsolutions.net
GEO:34.0489281;-111.0937311
END:VEVENT
BEGIN:VEVENT
DTSTART;TZID=America/Phoenix:20230511T080000
DTEND;TZID=America/Phoenix:20230511T120000
DTSTAMP:20260421T130018
CREATED:20230405T005847Z
LAST-MODIFIED:20230405T005847Z
UID:10002977-1683792000-1683806400@mobiletrainingsolutions.net
SUMMARY:Ornamental & Turf/Right of Way CA Training - Tucson 5/11
DESCRIPTION:This class prepares students for the Certified Applicator Ornamental & Turf and Right of Way Exams. A study guide is provided and filled out as we look at various weeds and methods of weed control. We will also look at ornamental insect control.
URL:https://mobiletrainingsolutions.net/event/ornamental-turf-right-of-way-ca-training-tucson-5-11-2/
LOCATION:Mobile Training Solutions\, LLC\, 7009 E. 21st Street\, Tucson\, AZ\, 85710\, United States
ORGANIZER;CN="Linda Harrington":MAILTO:linda@mobiletrainingsolutions.net
GEO:32.2082649;-110.8439314
X-APPLE-STRUCTURED-LOCATION;VALUE=URI;X-ADDRESS=Mobile Training Solutions LLC 7009 E. 21st Street Tucson AZ 85710 United States;X-APPLE-RADIUS=500;X-TITLE=7009 E. 21st Street:geo:-110.8439314,32.2082649
END:VEVENT
BEGIN:VEVENT
DTSTART;TZID=America/Phoenix:20230511T080000
DTEND;TZID=America/Phoenix:20230511T163000
DTSTAMP:20260421T130018
CREATED:20230424T235159Z
LAST-MODIFIED:20230424T235838Z
UID:10002984-1683792000-1683822600@mobiletrainingsolutions.net
SUMMARY:National Core & Industrial & Institutional CA Training ONLINE 5/11
DESCRIPTION:This ONLINE course requires: email address for MICROSOFT TEAMS link\, computer with SPEAKERS & MICROPHONE (for communicating with instructor)\, and providing us with a PHYSICAL MAILING ADDRESS for materials we will send ahead of time. \nThis is an ALL DAY class covering both National Core and I&I categories. $75 off for taking both categories in the same day. \nCore: In depth overview of the information covered in the National Core Guide\, concentrating on the information needed to pass the Certified Applicator National Core Applicator exam. Class participants are given a study guide that they fill out during the class and take with them for review.\nI&I: Class discussion and study guide for participation while we look at insect basics\, label reading IPM\, and some public health information that prepares students to take the Certified Applicator Industrial & Institutional exam.
URL:https://mobiletrainingsolutions.net/event/national-core-industrial-institutional-online-5-11/
LOCATION:Online Training\, AZ\, United States
ORGANIZER;CN="Linda Harrington":MAILTO:linda@mobiletrainingsolutions.net
GEO:34.0489281;-111.0937311
END:VEVENT
BEGIN:VEVENT
DTSTART;TZID=America/Phoenix:20230511T080000
DTEND;TZID=America/Phoenix:20230511T163000
DTSTAMP:20260421T130018
CREATED:20230425T000319Z
LAST-MODIFIED:20230425T000319Z
UID:10002986-1683792000-1683822600@mobiletrainingsolutions.net
SUMMARY:National Core & Ornamental & Turf/Right of Way CA Training - ONLINE 5/11
DESCRIPTION:This ONLINE course requires: email address for MICROSOFT TEAMS link\, computer with SPEAKERS & MICROPHONE (for communicating with instructor) and providing us with a PHYSICAL MAILING ADDRESS for materials we will send ahead of time. \nThis is an ALL DAY class covering both National Core and O&T categories. $75 off for taking both categories in the same day. \nCore: In depth overview of the information covered in the National Core Guide\, concentrating on the information needed to pass the Certified Applicator National Core Applicator exam. Class participants are given a study guide that they fill out during the class and take with them for review. \nO&T/R of W: This class prepares students for the Certified Applicator Ornamental & Turf and Right of Way Exams. You can take BOTH weed control license exams after this one class.  A study guide is provided and filled out as we look at various weeds and methods of weed control. We will also look at ornamental insect control.
URL:https://mobiletrainingsolutions.net/event/national-core-ornamental-turf-right-of-way-ca-training-online-5-11/
LOCATION:Online Training\, AZ\, United States
ORGANIZER;CN="Linda Harrington":MAILTO:linda@mobiletrainingsolutions.net
GEO:34.0489281;-111.0937311
END:VEVENT
BEGIN:VEVENT
DTSTART;TZID=America/Phoenix:20230511T120000
DTEND;TZID=America/Phoenix:20230511T163000
DTSTAMP:20260421T130018
CREATED:20230425T001541Z
LAST-MODIFIED:20230425T001541Z
UID:10002990-1683806400-1683822600@mobiletrainingsolutions.net
SUMMARY:Industrial & Institutional CA Training - ONLINE 5/11
DESCRIPTION:This ONLINE course requires: email address for MICROSOFT TEAMS link\, computer with SPEAKERS & MICROPHONE (for communicating with instructor)\, and providing us with a PHYSICAL MAILING ADDRESS for materials we will send ahead of time. \nClass discussion and study guide for participation while we look at insect basics\, label reading and some public health information that prepares students to take the Certified Applicator Industrial & Institutional exam.
URL:https://mobiletrainingsolutions.net/event/industrial-institutional-ca-training-online-5-11/
LOCATION:Online Training\, AZ\, United States
ORGANIZER;CN="Linda Harrington":MAILTO:linda@mobiletrainingsolutions.net
GEO:34.0489281;-111.0937311
END:VEVENT
BEGIN:VEVENT
DTSTART;TZID=America/Phoenix:20230511T120000
DTEND;TZID=America/Phoenix:20230511T163000
DTSTAMP:20260421T130018
CREATED:20230425T002214Z
LAST-MODIFIED:20230425T002214Z
UID:10002992-1683806400-1683822600@mobiletrainingsolutions.net
SUMMARY:Ornamental & Turf/Right of Way CA Training - ONLINE 5/11
DESCRIPTION:This ONLINE course requires: email address for MICROSOFT TEAMS link\, computer with SPEAKERS & MICROPHONE (for communicating with instructor)\, and providing us with a PHYSICAL MAILING ADDRESS for materials we will send ahead of time. \nThis class prepares students for the Certified Applicator Ornamental & Turf and Right of Way Exams. You can take BOTH weed control license exams after this one class.  A study guide is provided and filled out as we look at various weeds and methods of weed control. We will also look at ornamental insect control.
URL:https://mobiletrainingsolutions.net/event/ornamental-turf-right-of-way-ca-training-online-5-11/
LOCATION:Online Training\, AZ\, United States
ORGANIZER;CN="Linda Harrington":MAILTO:linda@mobiletrainingsolutions.net
GEO:34.0489281;-111.0937311
END:VEVENT
END:VCALENDAR