BEGIN:VCALENDAR
VERSION:2.0
PRODID:-//Mobile Training Solutions LLC - ECPv6.15.20//NONSGML v1.0//EN
CALSCALE:GREGORIAN
METHOD:PUBLISH
X-WR-CALNAME:Mobile Training Solutions LLC
X-ORIGINAL-URL:https://mobiletrainingsolutions.net
X-WR-CALDESC:Events for Mobile Training Solutions LLC
REFRESH-INTERVAL;VALUE=DURATION:PT1H
X-Robots-Tag:noindex
X-PUBLISHED-TTL:PT1H
BEGIN:VTIMEZONE
TZID:America/Phoenix
BEGIN:STANDARD
TZOFFSETFROM:-0700
TZOFFSETTO:-0700
TZNAME:MST
DTSTART:20220101T000000
END:STANDARD
END:VTIMEZONE
BEGIN:VEVENT
DTSTART;TZID=America/Phoenix:20230530T080000
DTEND;TZID=America/Phoenix:20230530T120000
DTSTAMP:20260421T114019
CREATED:20230405T002128Z
LAST-MODIFIED:20230515T171113Z
UID:10002965-1685433600-1685448000@mobiletrainingsolutions.net
SUMMARY:Aquatic CA Training - Tucson - 5/30
DESCRIPTION:This class provides exam preparation information for the Arizona Department of Agriculture: Pest Managment Division category 5\, Aquatic License.  Information covered during class: identification of aquatic pests (plant & animal)\, Integrated pest management in aquatic settings\, drift\, runoff and leaching control\, chemical applications and label reading practice.
URL:https://mobiletrainingsolutions.net/event/aquatic-ca-training-tucson-5-30/
LOCATION:Mobile Training Solutions\, LLC\, 7009 E. 21st Street\, Tucson\, AZ\, 85710\, United States
ORGANIZER;CN="Linda Harrington":MAILTO:linda@mobiletrainingsolutions.net
GEO:32.2082649;-110.8439314
X-APPLE-STRUCTURED-LOCATION;VALUE=URI;X-ADDRESS=Mobile Training Solutions LLC 7009 E. 21st Street Tucson AZ 85710 United States;X-APPLE-RADIUS=500;X-TITLE=7009 E. 21st Street:geo:-110.8439314,32.2082649
END:VEVENT
BEGIN:VEVENT
DTSTART;TZID=America/Phoenix:20230530T080000
DTEND;TZID=America/Phoenix:20230530T120000
DTSTAMP:20260421T114019
CREATED:20230515T170804Z
LAST-MODIFIED:20230515T172019Z
UID:10003041-1685433600-1685448000@mobiletrainingsolutions.net
SUMMARY:(QP) Certified Qualified Applicator Training National Core Training - Tucson 5/30/23
DESCRIPTION:In depth overview of the information covered in the National Core Guide and AZ State Law and Rule\, concentrating on the information needed to pass the Certified Qualified Applicator National Core Applicator exam. Class participants are given a study guide that they fill out during the class and take with them for review.
URL:https://mobiletrainingsolutions.net/event/qp-certified-qualified-applicator-training-national-core-training-tucson-5-30-23/
LOCATION:Mobile Training Solutions\, LLC\, 7009 E. 21st Street\, Tucson\, AZ\, 85710\, United States
ORGANIZER;CN="Jason Stigall":MAILTO:jason@mobiletrainingsolutions.net
GEO:32.2082649;-110.8439314
X-APPLE-STRUCTURED-LOCATION;VALUE=URI;X-ADDRESS=Mobile Training Solutions LLC 7009 E. 21st Street Tucson AZ 85710 United States;X-APPLE-RADIUS=500;X-TITLE=7009 E. 21st Street:geo:-110.8439314,32.2082649
END:VEVENT
BEGIN:VEVENT
DTSTART;TZID=America/Phoenix:20230530T080000
DTEND;TZID=America/Phoenix:20230530T120000
DTSTAMP:20260421T114019
CREATED:20230515T170934Z
LAST-MODIFIED:20230515T170934Z
UID:10003042-1685433600-1685448000@mobiletrainingsolutions.net
SUMMARY:(QP) Certified Qualified Applicator Training National Core Training - ONLINE 5/30/23
DESCRIPTION:In depth overview of the information covered in the National Core Guide and AZ State Law and Rule\, concentrating on the information needed to pass the Certified Qualified Applicator National Core Applicator exam. Class participants are given a study guide that they fill out during the class and take with them for review. \nClass will be taught through Microsoft Teams. You will receive a link to join the class the day prior to class. We will email you a PDF document of the study guide you will be filling out throughout the class. This will need to be printed out prior to class.
URL:https://mobiletrainingsolutions.net/event/qp-certified-qualified-applicator-training-national-core-training-online-5-30-23/
LOCATION:Online Training\, AZ\, United States
ORGANIZER;CN="Jason Stigall":MAILTO:jason@mobiletrainingsolutions.net
GEO:34.0489281;-111.0937311
END:VEVENT
BEGIN:VEVENT
DTSTART;TZID=America/Phoenix:20230530T080000
DTEND;TZID=America/Phoenix:20230530T120000
DTSTAMP:20260421T114019
CREATED:20230515T172806Z
LAST-MODIFIED:20230515T172806Z
UID:10003043-1685433600-1685448000@mobiletrainingsolutions.net
SUMMARY:(QP) Certified Qualified Applicator Training Wood Destroying Organisms - Tucson 5/30/23
DESCRIPTION:An overview of Wood Destroying Organisms\, their differences\, how we would inspect and treat for them. In depth look at graphing and the Wood Destroying Insect Inspection Report. Student is given a study guide for review and is prepared to take the Certified Qualified Applicator Wood Destroying Organisms exam. \nNO VIDEOS\, ALL LIVE TRAINING
URL:https://mobiletrainingsolutions.net/event/qp-certified-qualified-applicator-training-wood-destroying-organisms-tucson-5-30-23/
LOCATION:Mobile Training Solutions\, LLC\, 7009 E. 21st Street\, Tucson\, AZ\, 85710\, United States
ORGANIZER;CN="Jason Stigall":MAILTO:jason@mobiletrainingsolutions.net
GEO:32.2082649;-110.8439314
X-APPLE-STRUCTURED-LOCATION;VALUE=URI;X-ADDRESS=Mobile Training Solutions LLC 7009 E. 21st Street Tucson AZ 85710 United States;X-APPLE-RADIUS=500;X-TITLE=7009 E. 21st Street:geo:-110.8439314,32.2082649
END:VEVENT
BEGIN:VEVENT
DTSTART;TZID=America/Phoenix:20230530T080000
DTEND;TZID=America/Phoenix:20230530T120000
DTSTAMP:20260421T114019
CREATED:20230515T172942Z
LAST-MODIFIED:20230515T172942Z
UID:10003044-1685433600-1685448000@mobiletrainingsolutions.net
SUMMARY:(QP) Certified Qualified Applicator Training Wood Destroying Organisms - ONLINE 5/30/23
DESCRIPTION:An overview of Wood Destroying Organisms\, their differences\, how we would inspect and treat for them. In depth look at graphing and the Wood Destroying Insect Inspection Report. Student is given a study guide for review and is prepared to take the Certified Qualified Applicator Wood Destroying Organisms exam. \nNO VIDEOS\, ALL LIVE TRAINING \nClass will be taught through Microsoft Teams. You will receive a link to join the class the day prior to class. You will also receive a PDF document of our study guide that will need to be printed prior to the class.
URL:https://mobiletrainingsolutions.net/event/qp-certified-qualified-applicator-training-wood-destroying-organisms-online-5-30-23/
LOCATION:Online Training\, AZ\, United States
ORGANIZER;CN="Jason Stigall":MAILTO:jason@mobiletrainingsolutions.net
GEO:34.0489281;-111.0937311
END:VEVENT
BEGIN:VEVENT
DTSTART;TZID=America/Phoenix:20230530T123000
DTEND;TZID=America/Phoenix:20230530T163000
DTSTAMP:20260421T114019
CREATED:20230515T173139Z
LAST-MODIFIED:20230515T173139Z
UID:10003045-1685449800-1685464200@mobiletrainingsolutions.net
SUMMARY:(QP) Certified Qualified Applicator Training Industrial & Institutional - TUCSON 5/30/23
DESCRIPTION:Class discussion and study guide for participation while we look at insect basics\, label reading and some public health information that prepares students to take the Certified Qualified Applicator (QP) Industrial & Institutional (General Pest Control) exam.
URL:https://mobiletrainingsolutions.net/event/qp-certified-qualified-applicator-training-industrial-institutional-tucson-5-30-23/
LOCATION:Mobile Training Solutions\, LLC\, 7009 E. 21st Street\, Tucson\, AZ\, 85710\, United States
ORGANIZER;CN="Jason Stigall":MAILTO:jason@mobiletrainingsolutions.net
GEO:32.2082649;-110.8439314
X-APPLE-STRUCTURED-LOCATION;VALUE=URI;X-ADDRESS=Mobile Training Solutions LLC 7009 E. 21st Street Tucson AZ 85710 United States;X-APPLE-RADIUS=500;X-TITLE=7009 E. 21st Street:geo:-110.8439314,32.2082649
END:VEVENT
BEGIN:VEVENT
DTSTART;TZID=America/Phoenix:20230530T123000
DTEND;TZID=America/Phoenix:20230530T163000
DTSTAMP:20260421T114019
CREATED:20230515T173302Z
LAST-MODIFIED:20230515T173302Z
UID:10003046-1685449800-1685464200@mobiletrainingsolutions.net
SUMMARY:(QP) Certified Qualified Applicator Training Industrial & Institutional - ONLINE 5/30/23
DESCRIPTION:Class discussion and study guide for participation while we look at insect basics\, label reading and some public health information that prepares students to take the Certified Qualified Applicator (QP) Industrial & Institutional (General Pest Control) exam. \nClass will be taught through Microsoft Teams. You will receive a link to join the class the day prior to class. You will also receive a PDF of our study guide the day prior to the class. You will need to print the study guide prior to the start of class.
URL:https://mobiletrainingsolutions.net/event/qp-certified-qualified-applicator-training-industrial-institutional-online-5-30-23/
LOCATION:Online Training\, AZ\, United States
ORGANIZER;CN="Jason Stigall":MAILTO:jason@mobiletrainingsolutions.net
GEO:34.0489281;-111.0937311
END:VEVENT
BEGIN:VEVENT
DTSTART;TZID=America/Phoenix:20230530T123000
DTEND;TZID=America/Phoenix:20230530T163000
DTSTAMP:20260421T114019
CREATED:20230515T173439Z
LAST-MODIFIED:20230515T173930Z
UID:10003047-1685449800-1685464200@mobiletrainingsolutions.net
SUMMARY:QP Certified Qualified Applicator Training Turf & Ornamental/Right of Way - TUCSON 5/30/23
DESCRIPTION:This class prepares students for the Certified Qualified Applicator Ornamental & Turf Exam. A study guide is provided and filled out as we look at various weeds and methods of weed control. We will also look at ornamental insect control. All equipment calibration math found on the state exam is covered. This course also covers the Right of Way weed control exam content as well. This class prepares you for BOTH weed control license exams in AZ.
URL:https://mobiletrainingsolutions.net/event/qp-certified-qualified-applicator-training-turf-ornamental-right-of-way-tucson-5-30-23/
LOCATION:Mobile Training Solutions\, LLC\, 7009 E. 21st Street\, Tucson\, AZ\, 85710\, United States
ORGANIZER;CN="Jason Stigall":MAILTO:jason@mobiletrainingsolutions.net
GEO:32.2082649;-110.8439314
X-APPLE-STRUCTURED-LOCATION;VALUE=URI;X-ADDRESS=Mobile Training Solutions LLC 7009 E. 21st Street Tucson AZ 85710 United States;X-APPLE-RADIUS=500;X-TITLE=7009 E. 21st Street:geo:-110.8439314,32.2082649
END:VEVENT
BEGIN:VEVENT
DTSTART;TZID=America/Phoenix:20230530T123000
DTEND;TZID=America/Phoenix:20230530T163000
DTSTAMP:20260421T114019
CREATED:20230515T173617Z
LAST-MODIFIED:20230515T173617Z
UID:10003048-1685449800-1685464200@mobiletrainingsolutions.net
SUMMARY:QP Certified Qualified Applicator Training Turf & Ornamental/Right of Way - ONLINE 5/30/23
DESCRIPTION:This class prepares students for the Certified Qualified Applicator Ornamental & Turf Exam. A study guide is provided and filled out as we look at various weeds and methods of weed control. We will also look at ornamental insect control. All equipment calibration math found on the state exam is covered. This course also covers the Right of Way weed control exam content as well. This class prepares you for BOTH weed control license exams in AZ. \nNO VIDEOS\, ALL LIVE TRAINING \nClass will be taught through Microsoft Teams. You will receive a link to join the class the day prior to class. You will also receive a locked PDF of our study guide for the class. You must print a copy of the study guide prior to class.
URL:https://mobiletrainingsolutions.net/event/qp-certified-qualified-applicator-training-turf-ornamental-right-of-way-online-5-30-23/
LOCATION:Online Training\, AZ\, United States
ORGANIZER;CN="Jason Stigall":MAILTO:jason@mobiletrainingsolutions.net
GEO:34.0489281;-111.0937311
END:VEVENT
END:VCALENDAR