BEGIN:VCALENDAR
VERSION:2.0
PRODID:-//Mobile Training Solutions LLC - ECPv6.15.20//NONSGML v1.0//EN
CALSCALE:GREGORIAN
METHOD:PUBLISH
X-WR-CALNAME:Mobile Training Solutions LLC
X-ORIGINAL-URL:https://mobiletrainingsolutions.net
X-WR-CALDESC:Events for Mobile Training Solutions LLC
REFRESH-INTERVAL;VALUE=DURATION:PT1H
X-Robots-Tag:noindex
X-PUBLISHED-TTL:PT1H
BEGIN:VTIMEZONE
TZID:America/Phoenix
BEGIN:STANDARD
TZOFFSETFROM:-0700
TZOFFSETTO:-0700
TZNAME:MST
DTSTART:20220101T000000
END:STANDARD
END:VTIMEZONE
BEGIN:VEVENT
DTSTART;TZID=America/Phoenix:20230531T080000
DTEND;TZID=America/Phoenix:20230531T120000
DTSTAMP:20260421T125919
CREATED:20230330T175406Z
LAST-MODIFIED:20230515T171805Z
UID:10002937-1685520000-1685534400@mobiletrainingsolutions.net
SUMMARY:National Core CA Training - Tucson 5/31
DESCRIPTION:In depth overview of the information covered in the National Core Guide\, concentrating on the information needed to pass the Certified Applicator National Core Applicator exam. Class participants are given a study guide that they fill out during the class and take with them for review.
URL:https://mobiletrainingsolutions.net/event/national-core-ca-training-tucson-5-29/
LOCATION:Mobile Training Solutions\, LLC\, 7009 E. 21st Street\, Tucson\, AZ\, 85710\, United States
ORGANIZER;CN="Linda Harrington":MAILTO:linda@mobiletrainingsolutions.net
GEO:32.2082649;-110.8439314
X-APPLE-STRUCTURED-LOCATION;VALUE=URI;X-ADDRESS=Mobile Training Solutions LLC 7009 E. 21st Street Tucson AZ 85710 United States;X-APPLE-RADIUS=500;X-TITLE=7009 E. 21st Street:geo:-110.8439314,32.2082649
END:VEVENT
BEGIN:VEVENT
DTSTART;TZID=America/Phoenix:20230531T080000
DTEND;TZID=America/Phoenix:20230531T130000
DTSTAMP:20260421T125919
CREATED:20230405T003847Z
LAST-MODIFIED:20230405T003847Z
UID:10002970-1685520000-1685538000@mobiletrainingsolutions.net
SUMMARY:Wood Destroying Organisms CA Training - Tucson 5/31
DESCRIPTION:An overview of Wood Destroying Organisms and their differences and how we would inspect and treat for them. In depth look at graphing and the Wood Destroying Insect Inspection Report. Student is given a study guide for review and is prepared to take the Certified Applicator Wood Destroying Organisms exam. Note\, THIS IS A FIVE HOUR CLASS
URL:https://mobiletrainingsolutions.net/event/wood-destroying-organisms-ca-training-tucson-5-31/
LOCATION:Mobile Training Solutions\, LLC\, 7009 E. 21st Street\, Tucson\, AZ\, 85710\, United States
ORGANIZER;CN="Linda Harrington":MAILTO:linda@mobiletrainingsolutions.net
GEO:32.2082649;-110.8439314
X-APPLE-STRUCTURED-LOCATION;VALUE=URI;X-ADDRESS=Mobile Training Solutions LLC 7009 E. 21st Street Tucson AZ 85710 United States;X-APPLE-RADIUS=500;X-TITLE=7009 E. 21st Street:geo:-110.8439314,32.2082649
END:VEVENT
BEGIN:VEVENT
DTSTART;TZID=America/Phoenix:20230531T080000
DTEND;TZID=America/Phoenix:20230531T163000
DTSTAMP:20260421T125919
CREATED:20230403T155657Z
LAST-MODIFIED:20230515T171721Z
UID:10002945-1685520000-1685550600@mobiletrainingsolutions.net
SUMMARY:National Core & Industrial & Institutional CA Training - Tucson 5/31
DESCRIPTION:This is an ALL DAY class covering both National Core and I&I categories. $75 off for taking both categories in the same day. \nCore: In depth overview of the information covered in the National Core Guide\, concentrating on the information needed to pass the Certified Applicator National Core Applicator exam. Class participants are given a study guide that they fill out during the class and take with them for review. \nI&I: Class discussion and study guide for participation while we look at insect basics\, label reading IPM\, and some public health information that prepares students to take the Certified Applicator Industrial & Institutional exam.
URL:https://mobiletrainingsolutions.net/event/national-core-industrial-institutional-ca-training-tucson-5-29/
LOCATION:Mobile Training Solutions\, LLC\, 7009 E. 21st Street\, Tucson\, AZ\, 85710\, United States
ORGANIZER;CN="Linda Harrington":MAILTO:linda@mobiletrainingsolutions.net
GEO:32.2082649;-110.8439314
X-APPLE-STRUCTURED-LOCATION;VALUE=URI;X-ADDRESS=Mobile Training Solutions LLC 7009 E. 21st Street Tucson AZ 85710 United States;X-APPLE-RADIUS=500;X-TITLE=7009 E. 21st Street:geo:-110.8439314,32.2082649
END:VEVENT
BEGIN:VEVENT
DTSTART;TZID=America/Phoenix:20230531T080000
DTEND;TZID=America/Phoenix:20230531T163000
DTSTAMP:20260421T125919
CREATED:20230403T160915Z
LAST-MODIFIED:20230515T171621Z
UID:10002950-1685520000-1685550600@mobiletrainingsolutions.net
SUMMARY:National Core & Ornamental & Turf/Right of Way CA Training - Tucson 5/31
DESCRIPTION:This is an ALL DAY class covering both National Core and O&T categories. $75 off for taking both categories in the same day. \nCore: In depth overview of the information covered in the National Core Guide\, concentrating on the information needed to pass the Certified Applicator National Core Applicator exam. Class participants are given a study guide that they fill out during the class and take with them for review. \nO&T/R of W: This class prepares students for the Certified Applicator Ornamental & Turf and Right of Way Exams. You can take BOTH weed control license exams after this one class.  A study guide is provided and filled out as we look at various weeds and methods of weed control. We will also look at ornamental insect control.
URL:https://mobiletrainingsolutions.net/event/national-core-ornamental-turf-right-of-way-ca-training-tucson-5-29/
LOCATION:Mobile Training Solutions\, LLC\, 7009 E. 21st Street\, Tucson\, AZ\, 85710\, United States
ORGANIZER;CN="Linda Harrington":MAILTO:linda@mobiletrainingsolutions.net
GEO:32.2082649;-110.8439314
X-APPLE-STRUCTURED-LOCATION;VALUE=URI;X-ADDRESS=Mobile Training Solutions LLC 7009 E. 21st Street Tucson AZ 85710 United States;X-APPLE-RADIUS=500;X-TITLE=7009 E. 21st Street:geo:-110.8439314,32.2082649
END:VEVENT
BEGIN:VEVENT
DTSTART;TZID=America/Phoenix:20230531T123000
DTEND;TZID=America/Phoenix:20230531T163000
DTSTAMP:20260421T125919
CREATED:20230404T235025Z
LAST-MODIFIED:20230515T171506Z
UID:10002955-1685536200-1685550600@mobiletrainingsolutions.net
SUMMARY:Industrial & Institutional CA Training - Tucson 5/31
DESCRIPTION:Class discussion and study guide for participation while we look at insect basics\, label reading and some public health information that prepares students to take the Certified Applicator Industrial & Institutional exam.
URL:https://mobiletrainingsolutions.net/event/industrial-institutional-ca-training-tucson-5-29/
LOCATION:Mobile Training Solutions\, LLC\, 7009 E. 21st Street\, Tucson\, AZ\, 85710\, United States
ORGANIZER;CN="Linda Harrington":MAILTO:linda@mobiletrainingsolutions.net
GEO:32.2082649;-110.8439314
X-APPLE-STRUCTURED-LOCATION;VALUE=URI;X-ADDRESS=Mobile Training Solutions LLC 7009 E. 21st Street Tucson AZ 85710 United States;X-APPLE-RADIUS=500;X-TITLE=7009 E. 21st Street:geo:-110.8439314,32.2082649
END:VEVENT
BEGIN:VEVENT
DTSTART;TZID=America/Phoenix:20230531T123000
DTEND;TZID=America/Phoenix:20230531T163000
DTSTAMP:20260421T125919
CREATED:20230405T005350Z
LAST-MODIFIED:20230515T171412Z
UID:10002975-1685536200-1685550600@mobiletrainingsolutions.net
SUMMARY:Ornamental & Turf/Right of Way CA Training - Tucson 5/31
DESCRIPTION:This class prepares students for the Certified Applicator Ornamental & Turf and Right of Way Exams. A study guide is provided and filled out as we look at various weeds and methods of weed control. We will also look at ornamental insect control.
URL:https://mobiletrainingsolutions.net/event/ornamental-turf-right-of-way-ca-training-tucson-5-29/
LOCATION:Mobile Training Solutions\, LLC\, 7009 E. 21st Street\, Tucson\, AZ\, 85710\, United States
ORGANIZER;CN="Linda Harrington":MAILTO:linda@mobiletrainingsolutions.net
GEO:32.2082649;-110.8439314
X-APPLE-STRUCTURED-LOCATION;VALUE=URI;X-ADDRESS=Mobile Training Solutions LLC 7009 E. 21st Street Tucson AZ 85710 United States;X-APPLE-RADIUS=500;X-TITLE=7009 E. 21st Street:geo:-110.8439314,32.2082649
END:VEVENT
END:VCALENDAR