BEGIN:VCALENDAR
VERSION:2.0
PRODID:-//Mobile Training Solutions LLC - ECPv6.15.20//NONSGML v1.0//EN
CALSCALE:GREGORIAN
METHOD:PUBLISH
X-ORIGINAL-URL:https://mobiletrainingsolutions.net
X-WR-CALDESC:Events for Mobile Training Solutions LLC
REFRESH-INTERVAL;VALUE=DURATION:PT1H
X-Robots-Tag:noindex
X-PUBLISHED-TTL:PT1H
BEGIN:VTIMEZONE
TZID:America/Phoenix
BEGIN:STANDARD
TZOFFSETFROM:-0700
TZOFFSETTO:-0700
TZNAME:MST
DTSTART:20220101T000000
END:STANDARD
END:VTIMEZONE
BEGIN:VEVENT
DTSTART;TZID=America/Phoenix:20230706T080000
DTEND;TZID=America/Phoenix:20230706T113000
DTSTAMP:20260421T084808
CREATED:20230621T201845Z
LAST-MODIFIED:20230621T201845Z
UID:10003114-1688630400-1688643000@mobiletrainingsolutions.net
SUMMARY:CA National Core Training - ONLINE 7/6
DESCRIPTION:This ONLINE course requires: email address for Microsoft Teams link\, computer with SPEAKERS & MICROPHONE (for communicating with instructor)\, and providing us with a PHYSICAL MAILING ADDRESS for materials we will send ahead of time. \nIn depth overview of the information covered in the National Core Guide\, concentrating on the information needed to pass the Certified Applicator National Core Applicator exam. Class participants are given a study guide that they fill out during the class and take with them for review.
URL:https://mobiletrainingsolutions.net/event/ca-national-core-training-online-7-6/
LOCATION:Online Training\, AZ\, United States
ORGANIZER;CN="Linda Harrington":MAILTO:linda@mobiletrainingsolutions.net
GEO:34.0489281;-111.0937311
END:VEVENT
BEGIN:VEVENT
DTSTART;TZID=America/Phoenix:20230706T080000
DTEND;TZID=America/Phoenix:20230706T120000
DTSTAMP:20260421T084808
CREATED:20230530T181339Z
LAST-MODIFIED:20230626T153718Z
UID:10003050-1688630400-1688644800@mobiletrainingsolutions.net
SUMMARY:CA National Core - Tucson 7/6
DESCRIPTION:In depth overview of the information covered in the National Core Guide\, concentrating on the information needed to pass the Certified Applicator National Core Applicator exam. Class participants are given a study guide that they fill out during the class and take with them for review.
URL:https://mobiletrainingsolutions.net/event/ca-national-core-tucson-7-3/
LOCATION:Mobile Training Solutions\, LLC\, 7009 E. 21st Street\, Tucson\, AZ\, 85710\, United States
ORGANIZER;CN="Linda Harrington":MAILTO:linda@mobiletrainingsolutions.net
GEO:32.2082649;-110.8439314
X-APPLE-STRUCTURED-LOCATION;VALUE=URI;X-ADDRESS=Mobile Training Solutions LLC 7009 E. 21st Street Tucson AZ 85710 United States;X-APPLE-RADIUS=500;X-TITLE=7009 E. 21st Street:geo:-110.8439314,32.2082649
END:VEVENT
BEGIN:VEVENT
DTSTART;TZID=America/Phoenix:20230706T080000
DTEND;TZID=America/Phoenix:20230706T120000
DTSTAMP:20260421T084808
CREATED:20230602T000157Z
LAST-MODIFIED:20230602T002407Z
UID:10003092-1688630400-1688644800@mobiletrainingsolutions.net
SUMMARY:CA Ornamental & Turf/Right of Way Training - Tucson 7/6
DESCRIPTION:This class prepares students for the Certified Applicator Ornamental & Turf and Right of Way Exams. A study guide is provided and filled out as we look at various weeds and methods of weed control. We will also look at ornamental insect control.
URL:https://mobiletrainingsolutions.net/event/ca-ornamental-7-turf-right-of-way-training-tucson-7-6/
LOCATION:Mobile Training Solutions\, LLC\, 7009 E. 21st Street\, Tucson\, AZ\, 85710\, United States
ORGANIZER;CN="Linda Harrington":MAILTO:linda@mobiletrainingsolutions.net
GEO:32.2082649;-110.8439314
X-APPLE-STRUCTURED-LOCATION;VALUE=URI;X-ADDRESS=Mobile Training Solutions LLC 7009 E. 21st Street Tucson AZ 85710 United States;X-APPLE-RADIUS=500;X-TITLE=7009 E. 21st Street:geo:-110.8439314,32.2082649
END:VEVENT
BEGIN:VEVENT
DTSTART;TZID=America/Phoenix:20230706T080000
DTEND;TZID=America/Phoenix:20230706T163000
DTSTAMP:20260421T084808
CREATED:20230530T183806Z
LAST-MODIFIED:20230626T153531Z
UID:10003055-1688630400-1688661000@mobiletrainingsolutions.net
SUMMARY:CA National Core & Industrial & Institutional Training - Tucson 7/6
DESCRIPTION:This is an ALL DAY class covering both National Core and I&I categories. $75 off for taking both categories in the same day. \nCore: In depth overview of the information covered in the National Core Guide\, concentrating on the information needed to pass the Certified Applicator National Core Applicator exam. Class participants are given a study guide that they fill out during the class and take with them for review. \nI&I: Class discussion and study guide for participation while we look at insect basics\, label reading IPM\, and some public health information that prepares students to take the Certified Applicator Industrial & Institutional exam.
URL:https://mobiletrainingsolutions.net/event/ca-national-core-industrial-institutional-training-tucson-7-3/
LOCATION:Mobile Training Solutions\, LLC\, 7009 E. 21st Street\, Tucson\, AZ\, 85710\, United States
ORGANIZER;CN="Linda Harrington":MAILTO:linda@mobiletrainingsolutions.net
GEO:32.2082649;-110.8439314
X-APPLE-STRUCTURED-LOCATION;VALUE=URI;X-ADDRESS=Mobile Training Solutions LLC 7009 E. 21st Street Tucson AZ 85710 United States;X-APPLE-RADIUS=500;X-TITLE=7009 E. 21st Street:geo:-110.8439314,32.2082649
END:VEVENT
BEGIN:VEVENT
DTSTART;TZID=America/Phoenix:20230706T080000
DTEND;TZID=America/Phoenix:20230706T163000
DTSTAMP:20260421T084808
CREATED:20230530T185154Z
LAST-MODIFIED:20230626T153318Z
UID:10003060-1688630400-1688661000@mobiletrainingsolutions.net
SUMMARY:CA National Core & Ornamental & Turf/Right of Way Training - Tucson 7/6
DESCRIPTION:This is an ALL DAY class covering both National Core and O&T categories. $75 off for taking both categories in the same day. \nCore: In depth overview of the information covered in the National Core Guide\, concentrating on the information needed to pass the Certified Applicator National Core Applicator exam. Class participants are given a study guide that they fill out during the class and take with them for review. \nO&T/R of W: This class prepares students for the Certified Applicator Ornamental & Turf and Right of Way Exams. You can take BOTH weed control license exams after this one class.  A study guide is provided and filled out as we look at various weeds and methods of weed control. We will also look at ornamental insect control.
URL:https://mobiletrainingsolutions.net/event/ca-national-core-ornamental-turf-right-of-way-training-tucson-7-3/
LOCATION:Mobile Training Solutions\, LLC\, 7009 E. 21st Street\, Tucson\, AZ\, 85710\, United States
ORGANIZER;CN="Linda Harrington":MAILTO:linda@mobiletrainingsolutions.net
GEO:32.2082649;-110.8439314
X-APPLE-STRUCTURED-LOCATION;VALUE=URI;X-ADDRESS=Mobile Training Solutions LLC 7009 E. 21st Street Tucson AZ 85710 United States;X-APPLE-RADIUS=500;X-TITLE=7009 E. 21st Street:geo:-110.8439314,32.2082649
END:VEVENT
BEGIN:VEVENT
DTSTART;TZID=America/Phoenix:20230706T080000
DTEND;TZID=America/Phoenix:20230706T163000
DTSTAMP:20260421T084808
CREATED:20230621T191949Z
LAST-MODIFIED:20230621T191949Z
UID:10003106-1688630400-1688661000@mobiletrainingsolutions.net
SUMMARY:CA National Core & Industrial & Institutional Training - ONLINE 7/6
DESCRIPTION:This ONLINE course requires: email address for MICROSOFT TEAMS link\, computer with SPEAKERS & MICROPHONE (for communicating with instructor)\, and providing us with a PHYSICAL MAILING ADDRESS for materials we will send ahead of time. \nThis is an ALL DAY class covering both National Core and I&I categories. $75 off for taking both categories in the same day. \nCore: In depth overview of the information covered in the National Core Guide\, concentrating on the information needed to pass the Certified Applicator National Core Applicator exam. Class participants are given a study guide that they fill out during the class and take with them for review.\nI&I: Class discussion and study guide for participation while we look at insect basics\, label reading IPM\, and some public health information that prepares students to take the Certified Applicator Industrial & Institutional exam.
URL:https://mobiletrainingsolutions.net/event/ca-national-core-industrial-institutional-training-online-7-6/
LOCATION:Online Training\, AZ\, United States
ORGANIZER;CN="Linda Harrington":MAILTO:linda@mobiletrainingsolutions.net
GEO:34.0489281;-111.0937311
END:VEVENT
BEGIN:VEVENT
DTSTART;TZID=America/Phoenix:20230706T080000
DTEND;TZID=America/Phoenix:20230706T163000
DTSTAMP:20260421T084808
CREATED:20230621T194739Z
LAST-MODIFIED:20230621T194739Z
UID:10003108-1688630400-1688661000@mobiletrainingsolutions.net
SUMMARY:CA National Core & Ornamental & Turf/Right of Way Training - ONLINE 7/6
DESCRIPTION:This ONLINE course requires: email address for MICROSOFT TEAMS link\, computer with SPEAKERS & MICROPHONE (for communicating with instructor) and providing us with a PHYSICAL MAILING ADDRESS for materials we will send ahead of time. \nThis is an ALL DAY class covering both National Core and O&T categories. $75 off for taking both categories in the same day. \nCore: In depth overview of the information covered in the National Core Guide\, concentrating on the information needed to pass the Certified Applicator National Core Applicator exam. Class participants are given a study guide that they fill out during the class and take with them for review. \nO&T/R of W: This class prepares students for the Certified Applicator Ornamental & Turf and Right of Way Exams. You can take BOTH weed control license exams after this one class.  A study guide is provided and filled out as we look at various weeds and methods of weed control. We will also look at ornamental insect control.
URL:https://mobiletrainingsolutions.net/event/ca-national-core-ornamental-turf-right-of-way-training-online-7-6/
LOCATION:Online Training\, AZ\, United States
ORGANIZER;CN="Linda Harrington":MAILTO:linda@mobiletrainingsolutions.net
GEO:34.0489281;-111.0937311
END:VEVENT
BEGIN:VEVENT
DTSTART;TZID=America/Phoenix:20230706T120000
DTEND;TZID=America/Phoenix:20230706T160000
DTSTAMP:20260421T084808
CREATED:20230621T195722Z
LAST-MODIFIED:20230621T200242Z
UID:10003110-1688644800-1688659200@mobiletrainingsolutions.net
SUMMARY:CA Industrial & Institutional Training - ONLINE 7/6
DESCRIPTION:This ONLINE course requires: email address for MICROSOFT TEAMS link\, computer with SPEAKERS & MICROPHONE (for communicating with instructor)\, and providing us with a PHYSICAL MAILING ADDRESS for materials we will send ahead of time. \nClass discussion and study guide for participation while we look at insect basics\, label reading and some public health information that prepares students to take the Certified Applicator Industrial & Institutional exam.
URL:https://mobiletrainingsolutions.net/event/ca-industrial-institutional-training-online-7-6/
LOCATION:Online Training\, AZ\, United States
ORGANIZER;CN="Linda Harrington":MAILTO:linda@mobiletrainingsolutions.net
GEO:34.0489281;-111.0937311
END:VEVENT
BEGIN:VEVENT
DTSTART;TZID=America/Phoenix:20230706T120000
DTEND;TZID=America/Phoenix:20230706T160000
DTSTAMP:20260421T084808
CREATED:20230621T200856Z
LAST-MODIFIED:20230621T200856Z
UID:10003112-1688644800-1688659200@mobiletrainingsolutions.net
SUMMARY:CA Ornamental & Turf/Right of Way Training - ONLINE 7/6
DESCRIPTION:This ONLINE course requires: email address for MICROSOFT TEAMS link\, computer with SPEAKERS & MICROPHONE (for communicating with instructor)\, and providing us with a PHYSICAL MAILING ADDRESS for materials we will send ahead of time. \nThis class prepares students for the Certified Applicator Ornamental & Turf and Right of Way Exams. You can take BOTH weed control license exams after this one class.  A study guide is provided and filled out as we look at various weeds and methods of weed control. We will also look at ornamental insect control.
URL:https://mobiletrainingsolutions.net/event/ca-ornamental-turf-right-of-way-training-online-7-6/
LOCATION:Online Training\, AZ\, United States
ORGANIZER;CN="Linda Harrington":MAILTO:linda@mobiletrainingsolutions.net
GEO:34.0489281;-111.0937311
END:VEVENT
BEGIN:VEVENT
DTSTART;TZID=America/Phoenix:20230706T123000
DTEND;TZID=America/Phoenix:20230706T163000
DTSTAMP:20260421T084808
CREATED:20230530T190516Z
LAST-MODIFIED:20230626T152444Z
UID:10003065-1688646600-1688661000@mobiletrainingsolutions.net
SUMMARY:CA Industrial & Institutional Training - Tucson 7/6
DESCRIPTION:Class discussion and study guide for participation while we look at insect basics\, label reading and some public health information that prepares students to take the Certified Applicator Industrial & Institutional exam.
URL:https://mobiletrainingsolutions.net/event/ca-industrial-institutional-training-tucson-7-3/
LOCATION:Mobile Training Solutions\, LLC\, 7009 E. 21st Street\, Tucson\, AZ\, 85710\, United States
ORGANIZER;CN="Linda Harrington":MAILTO:linda@mobiletrainingsolutions.net
GEO:32.2082649;-110.8439314
X-APPLE-STRUCTURED-LOCATION;VALUE=URI;X-ADDRESS=Mobile Training Solutions LLC 7009 E. 21st Street Tucson AZ 85710 United States;X-APPLE-RADIUS=500;X-TITLE=7009 E. 21st Street:geo:-110.8439314,32.2082649
END:VEVENT
BEGIN:VEVENT
DTSTART;TZID=America/Phoenix:20230706T123000
DTEND;TZID=America/Phoenix:20230706T163000
DTSTAMP:20260421T084808
CREATED:20230601T224637Z
LAST-MODIFIED:20230626T152000Z
UID:10003070-1688646600-1688661000@mobiletrainingsolutions.net
SUMMARY:CA Ornamental & Turf/Right of Way Training - Tucson 7/6
DESCRIPTION:This class prepares students for the Certified Applicator Ornamental & Turf and Right of Way Exams. A study guide is provided and filled out as we look at various weeds and methods of weed control. We will also look at ornamental insect control.
URL:https://mobiletrainingsolutions.net/event/ca-ornamental-turf-right-of-way-training-tucson-7-3/
LOCATION:Mobile Training Solutions\, LLC\, 7009 E. 21st Street\, Tucson\, AZ\, 85710\, United States
ORGANIZER;CN="Linda Harrington":MAILTO:linda@mobiletrainingsolutions.net
GEO:32.2082649;-110.8439314
X-APPLE-STRUCTURED-LOCATION;VALUE=URI;X-ADDRESS=Mobile Training Solutions LLC 7009 E. 21st Street Tucson AZ 85710 United States;X-APPLE-RADIUS=500;X-TITLE=7009 E. 21st Street:geo:-110.8439314,32.2082649
END:VEVENT
END:VCALENDAR