BEGIN:VCALENDAR
VERSION:2.0
PRODID:-//Mobile Training Solutions LLC - ECPv6.15.20//NONSGML v1.0//EN
CALSCALE:GREGORIAN
METHOD:PUBLISH
X-WR-CALNAME:Mobile Training Solutions LLC
X-ORIGINAL-URL:https://mobiletrainingsolutions.net
X-WR-CALDESC:Events for Mobile Training Solutions LLC
REFRESH-INTERVAL;VALUE=DURATION:PT1H
X-Robots-Tag:noindex
X-PUBLISHED-TTL:PT1H
BEGIN:VTIMEZONE
TZID:America/Phoenix
BEGIN:STANDARD
TZOFFSETFROM:-0700
TZOFFSETTO:-0700
TZNAME:MST
DTSTART:20220101T000000
END:STANDARD
END:VTIMEZONE
BEGIN:VEVENT
DTSTART;TZID=America/Phoenix:20230707T080000
DTEND;TZID=America/Phoenix:20230707T120000
DTSTAMP:20260421T084745
CREATED:20230705T144619Z
LAST-MODIFIED:20230705T144619Z
UID:10003117-1688716800-1688731200@mobiletrainingsolutions.net
SUMMARY:(QP) Certified Qualified Applicator Training Industrial & Institutional - TUCSON 7/7/23
DESCRIPTION:Class discussion and study guide for participation while we look at insect basics\, label reading and some public health information that prepares students to take the Certified Qualified Applicator (QP) Industrial & Institutional (General Pest Control) exam.
URL:https://mobiletrainingsolutions.net/event/qp-certified-qualified-applicator-training-industrial-institutional-tucson-7-7-23/
LOCATION:Mobile Training Solutions\, LLC\, 7009 E. 21st Street\, Tucson\, AZ\, 85710\, United States
ORGANIZER;CN="Jason Stigall":MAILTO:jason@mobiletrainingsolutions.net
GEO:32.2082649;-110.8439314
X-APPLE-STRUCTURED-LOCATION;VALUE=URI;X-ADDRESS=Mobile Training Solutions LLC 7009 E. 21st Street Tucson AZ 85710 United States;X-APPLE-RADIUS=500;X-TITLE=7009 E. 21st Street:geo:-110.8439314,32.2082649
END:VEVENT
BEGIN:VEVENT
DTSTART;TZID=America/Phoenix:20230707T080000
DTEND;TZID=America/Phoenix:20230707T120000
DTSTAMP:20260421T084745
CREATED:20230705T144753Z
LAST-MODIFIED:20230705T144753Z
UID:10003118-1688716800-1688731200@mobiletrainingsolutions.net
SUMMARY:(QP) Certified Qualified Applicator Training Industrial & Institutional - ONLINE 7/7/23
DESCRIPTION:Class discussion and study guide for participation while we look at insect basics\, label reading and some public health information that prepares students to take the Certified Qualified Applicator (QP) Industrial & Institutional (General Pest Control) exam. \nClass will be taught through Microsoft Teams. You will receive a link to join the class the day prior to class. You will also receive a PDF of our study guide the day prior to the class. You will need to print the study guide prior to the start of class.
URL:https://mobiletrainingsolutions.net/event/qp-certified-qualified-applicator-training-industrial-institutional-online-7-7-23/
LOCATION:Online Training\, AZ\, United States
ORGANIZER;CN="Jason Stigall":MAILTO:jason@mobiletrainingsolutions.net
GEO:34.0489281;-111.0937311
END:VEVENT
END:VCALENDAR