BEGIN:VCALENDAR
VERSION:2.0
PRODID:-//Mobile Training Solutions LLC - ECPv6.15.20//NONSGML v1.0//EN
CALSCALE:GREGORIAN
METHOD:PUBLISH
X-WR-CALNAME:Mobile Training Solutions LLC
X-ORIGINAL-URL:https://mobiletrainingsolutions.net
X-WR-CALDESC:Events for Mobile Training Solutions LLC
REFRESH-INTERVAL;VALUE=DURATION:PT1H
X-Robots-Tag:noindex
X-PUBLISHED-TTL:PT1H
BEGIN:VTIMEZONE
TZID:America/Phoenix
BEGIN:STANDARD
TZOFFSETFROM:-0700
TZOFFSETTO:-0700
TZNAME:MST
DTSTART:20220101T000000
END:STANDARD
END:VTIMEZONE
BEGIN:VEVENT
DTSTART;TZID=America/Phoenix:20230710T080000
DTEND;TZID=America/Phoenix:20230710T120000
DTSTAMP:20260421T084759
CREATED:20230530T181549Z
LAST-MODIFIED:20230530T181549Z
UID:10003051-1688976000-1688990400@mobiletrainingsolutions.net
SUMMARY:CA National Core - Tucson 7/10
DESCRIPTION:In depth overview of the information covered in the National Core Guide\, concentrating on the information needed to pass the Certified Applicator National Core Applicator exam. Class participants are given a study guide that they fill out during the class and take with them for review.
URL:https://mobiletrainingsolutions.net/event/ca-national-core-tucson-7-10/
LOCATION:Mobile Training Solutions\, LLC\, 7009 E. 21st Street\, Tucson\, AZ\, 85710\, United States
ORGANIZER;CN="Linda Harrington":MAILTO:linda@mobiletrainingsolutions.net
GEO:32.2082649;-110.8439314
X-APPLE-STRUCTURED-LOCATION;VALUE=URI;X-ADDRESS=Mobile Training Solutions LLC 7009 E. 21st Street Tucson AZ 85710 United States;X-APPLE-RADIUS=500;X-TITLE=7009 E. 21st Street:geo:-110.8439314,32.2082649
END:VEVENT
BEGIN:VEVENT
DTSTART;TZID=America/Phoenix:20230710T080000
DTEND;TZID=America/Phoenix:20230710T163000
DTSTAMP:20260421T084759
CREATED:20230530T184045Z
LAST-MODIFIED:20230530T184045Z
UID:10003056-1688976000-1689006600@mobiletrainingsolutions.net
SUMMARY:CA National Core & Industrial & Institutional Training - Tucson 7/10
DESCRIPTION:This is an ALL DAY class covering both National Core and I&I categories. $75 off for taking both categories in the same day. \nCore: In depth overview of the information covered in the National Core Guide\, concentrating on the information needed to pass the Certified Applicator National Core Applicator exam. Class participants are given a study guide that they fill out during the class and take with them for review. \nI&I: Class discussion and study guide for participation while we look at insect basics\, label reading IPM\, and some public health information that prepares students to take the Certified Applicator Industrial & Institutional exam.
URL:https://mobiletrainingsolutions.net/event/ca-national-core-industrial-institutional-training-tucson-7-10/
LOCATION:Mobile Training Solutions\, LLC\, 7009 E. 21st Street\, Tucson\, AZ\, 85710\, United States
ORGANIZER;CN="Linda Harrington":MAILTO:linda@mobiletrainingsolutions.net
GEO:32.2082649;-110.8439314
X-APPLE-STRUCTURED-LOCATION;VALUE=URI;X-ADDRESS=Mobile Training Solutions LLC 7009 E. 21st Street Tucson AZ 85710 United States;X-APPLE-RADIUS=500;X-TITLE=7009 E. 21st Street:geo:-110.8439314,32.2082649
END:VEVENT
BEGIN:VEVENT
DTSTART;TZID=America/Phoenix:20230710T080000
DTEND;TZID=America/Phoenix:20230710T163000
DTSTAMP:20260421T084759
CREATED:20230530T185417Z
LAST-MODIFIED:20230530T185417Z
UID:10003061-1688976000-1689006600@mobiletrainingsolutions.net
SUMMARY:CA National Core & Ornamental & Turf/Right of Way Training - Tucson 7/10
DESCRIPTION:This is an ALL DAY class covering both National Core and O&T categories. $75 off for taking both categories in the same day. \nCore: In depth overview of the information covered in the National Core Guide\, concentrating on the information needed to pass the Certified Applicator National Core Applicator exam. Class participants are given a study guide that they fill out during the class and take with them for review. \nO&T/R of W: This class prepares students for the Certified Applicator Ornamental & Turf and Right of Way Exams. You can take BOTH weed control license exams after this one class.  A study guide is provided and filled out as we look at various weeds and methods of weed control. We will also look at ornamental insect control.
URL:https://mobiletrainingsolutions.net/event/ca-national-core-ornamental-turf-right-of-way-training-tucson-7-10/
LOCATION:Mobile Training Solutions\, LLC\, 7009 E. 21st Street\, Tucson\, AZ\, 85710\, United States
ORGANIZER;CN="Linda Harrington":MAILTO:linda@mobiletrainingsolutions.net
GEO:32.2082649;-110.8439314
X-APPLE-STRUCTURED-LOCATION;VALUE=URI;X-ADDRESS=Mobile Training Solutions LLC 7009 E. 21st Street Tucson AZ 85710 United States;X-APPLE-RADIUS=500;X-TITLE=7009 E. 21st Street:geo:-110.8439314,32.2082649
END:VEVENT
BEGIN:VEVENT
DTSTART;TZID=America/Phoenix:20230710T123000
DTEND;TZID=America/Phoenix:20230710T163000
DTSTAMP:20260421T084759
CREATED:20230530T190804Z
LAST-MODIFIED:20230530T190804Z
UID:10003066-1688992200-1689006600@mobiletrainingsolutions.net
SUMMARY:CA Industrial & Institutional Training - Tucson 7/10
DESCRIPTION:Class discussion and study guide for participation while we look at insect basics\, label reading and some public health information that prepares students to take the Certified Applicator Industrial & Institutional exam.
URL:https://mobiletrainingsolutions.net/event/ca-industrial-institutional-training-tucson-7-10/
LOCATION:Mobile Training Solutions\, LLC\, 7009 E. 21st Street\, Tucson\, AZ\, 85710\, United States
ORGANIZER;CN="Linda Harrington":MAILTO:linda@mobiletrainingsolutions.net
GEO:32.2082649;-110.8439314
X-APPLE-STRUCTURED-LOCATION;VALUE=URI;X-ADDRESS=Mobile Training Solutions LLC 7009 E. 21st Street Tucson AZ 85710 United States;X-APPLE-RADIUS=500;X-TITLE=7009 E. 21st Street:geo:-110.8439314,32.2082649
END:VEVENT
BEGIN:VEVENT
DTSTART;TZID=America/Phoenix:20230710T123000
DTEND;TZID=America/Phoenix:20230710T163000
DTSTAMP:20260421T084759
CREATED:20230601T224908Z
LAST-MODIFIED:20230601T224908Z
UID:10003071-1688992200-1689006600@mobiletrainingsolutions.net
SUMMARY:CA Ornamental & Turf/Right of Way Training - Tucson 7/10
DESCRIPTION:This class prepares students for the Certified Applicator Ornamental & Turf and Right of Way Exams. A study guide is provided and filled out as we look at various weeds and methods of weed control. We will also look at ornamental insect control.
URL:https://mobiletrainingsolutions.net/event/ca-ornamental-turf-right-of-way-training-tucson-7-10/
LOCATION:Mobile Training Solutions\, LLC\, 7009 E. 21st Street\, Tucson\, AZ\, 85710\, United States
ORGANIZER;CN="Linda Harrington":MAILTO:linda@mobiletrainingsolutions.net
GEO:32.2082649;-110.8439314
X-APPLE-STRUCTURED-LOCATION;VALUE=URI;X-ADDRESS=Mobile Training Solutions LLC 7009 E. 21st Street Tucson AZ 85710 United States;X-APPLE-RADIUS=500;X-TITLE=7009 E. 21st Street:geo:-110.8439314,32.2082649
END:VEVENT
END:VCALENDAR